BEGIN:VCALENDAR
VERSION:2.0
PRODID:-//zell.ortenaukultur.de//NONSGML kigkonsult.se iCalcreator 2.41.92//
CALSCALE:GREGORIAN
METHOD:PUBLISH
UID:61356362-3035-4934-a133-316332613539
X-WR-TIMEZONE:Europe/Berlin
X-LIC-LOCATION:Europe/Berlin
BEGIN:VEVENT
UID:258244-kulturportal@zell.ortenaukultur.de
DTSTAMP:20260425T135746Z
DESCRIPTION:Kurzbeschreibung:\n Volksliedersingen im Landgasthaus Rebstock
 \n Ort:\n Landgasthaus Rebstock in Stöcken Zell\, Zell am Harmersbach\n Ve
 ranstalter:\n Landgasthaus Rebstock in Stöcken Zell\n Termin:\n Beginn: 06
 .05.2026\, 15:00 Uhr\n Ende: 06.05.2026\n Link:\n Zur Detailseite
DTSTART;TZID=Europe/Berlin:20260506T150000
DTEND;TZID=Europe/Berlin:20260506T180000
LOCATION:Landgasthaus Rebstock in Stöcken Zell\, Zell am Harmersbach
SUMMARY:Volksliedersingen\, Landgasthaus Rebstock in Stöcken Zell
X-ALT-DESC;FMTTYPE=text/html:<strong>Kurzbeschreibung:</strong><br/>Volksli
 edersingen im Landgasthaus Rebstock <br /><strong>Ort:</strong><br/>Landga
 sthaus Rebstock in Stöcken Zell\, Zell am Harmersbach<br /><strong>Veranst
 alter:</strong><br/>Landgasthaus Rebstock in Stöcken Zell<br /><strong>Ter
 min:</strong><br/>Beginn: 06.05.2026\, 15:00 Uhr<br/>Ende: 06.05.2026<br /
 ><strong>Link:</strong><br/><a href='https://zell.ortenaukultur.de/de/vera
 nstaltungen/detail/veranstaltung/id/258244-volksliedersingen/?vt=1'>Zur De
 tailseite</a>
END:VEVENT
END:VCALENDAR
