BEGIN:VCALENDAR
VERSION:2.0
PRODID:-//zell.ortenaukultur.de//NONSGML kigkonsult.se iCalcreator 2.41.92//
CALSCALE:GREGORIAN
METHOD:PUBLISH
UID:36353732-3530-4331-b630-346564353135
X-WR-TIMEZONE:Europe/Berlin
X-LIC-LOCATION:Europe/Berlin
BEGIN:VEVENT
UID:509514-kulturportal@zell.ortenaukultur.de
DTSTAMP:20260425T110500Z
DESCRIPTION:Kurzbeschreibung:\n Mit musikalischer Unterhaltung und Bewirtun
 g.\n Ort:\n Neue Ortsmitte\n Hauptstraße\, 77781 Biberach\n Veranstalter:
 \n Gemeinde Biberach und Mitwirkung verschiedener Vereine\n Termin:\n Begi
 nn: 30.04.2026\, 18:00 Uhr\n Ende: 30.04.2026\n Link:\n Zur Detailseite
DTSTART;TZID=Europe/Berlin:20260430T180000
DTEND;TZID=Europe/Berlin:20260430T210000
LOCATION:Neue Ortsmitte\, Hauptstraße\, 77781 Biberach
SUMMARY:Maibaumstellen\, Neue Ortsmitte
X-ALT-DESC;FMTTYPE=text/html:<strong>Kurzbeschreibung:</strong><br/>Mit mus
 ikalischer Unterhaltung und Bewirtung.<br /><strong>Ort:</strong><br/>Neue
  Ortsmitte<br/>Hauptstraße\, 77781 Biberach<br /><strong>Veranstalter:</st
 rong><br/>Gemeinde Biberach und Mitwirkung verschiedener Vereine<br /><str
 ong>Termin:</strong><br/>Beginn: 30.04.2026\, 18:00 Uhr<br/>Ende: 30.04.20
 26<br /><strong>Link:</strong><br/><a href='https://zell.ortenaukultur.de/
 de/veranstaltungen/detail/veranstaltung/id/509514-maibaumstellen/?vt=1'>Zu
 r Detailseite</a>
END:VEVENT
END:VCALENDAR
