BEGIN:VCALENDAR
VERSION:2.0
PRODID:-//zell.ortenaukultur.de//NONSGML kigkonsult.se iCalcreator 2.41.92//
CALSCALE:GREGORIAN
METHOD:PUBLISH
UID:66343238-3436-4065-b365-363733303761
X-WR-TIMEZONE:Europe/Berlin
X-LIC-LOCATION:Europe/Berlin
BEGIN:VEVENT
UID:538652-kulturportal@zell.ortenaukultur.de
DTSTAMP:20260425T123910Z
DESCRIPTION:Kurzbeschreibung:\n Unterentersbach räumt auf\n Ort:\n Dorfgeme
 inschaftshaus Unterentersbach\n Zeller Str. 12\, 77736 Zell am Harmersbach
 \n Veranstalter:\n Landfrauen Entersbach\n Termin:\n Beginn: 13.06.2026\, 
 10:00 Uhr\n Ende: 13.06.2026\n Link:\n Zur Detailseite
DTSTART;TZID=Europe/Berlin:20260613T100000
DTEND;TZID=Europe/Berlin:20260613T130000
LOCATION:Dorfgemeinschaftshaus Unterentersbach\, Zeller Str. 12\, 77736 Zel
 l am Harmersbach
SUMMARY:Dorfflohmarkt \, Dorfgemeinschaftshaus Unterentersbach
X-ALT-DESC;FMTTYPE=text/html:<strong>Kurzbeschreibung:</strong><br/>Unteren
 tersbach räumt auf<br /><strong>Ort:</strong><br/>Dorfgemeinschaftshaus Un
 terentersbach<br/>Zeller Str. 12\, 77736 Zell am Harmersbach<br /><strong>
 Veranstalter:</strong><br/>Landfrauen Entersbach<br /><strong>Termin:</str
 ong><br/>Beginn: 13.06.2026\, 10:00 Uhr<br/>Ende: 13.06.2026<br /><strong>
 Link:</strong><br/><a href='https://zell.ortenaukultur.de/de/veranstaltung
 en/detail/veranstaltung/id/538652-dorfflohmarkt/?vt=1'>Zur Detailseite</a>
END:VEVENT
END:VCALENDAR
