BEGIN:VCALENDAR
VERSION:2.0
PRODID:-//zell.ortenaukultur.de//NONSGML kigkonsult.se iCalcreator 2.41.92//
CALSCALE:GREGORIAN
METHOD:PUBLISH
UID:36326536-3934-4861-b130-393939346139
X-WR-TIMEZONE:Europe/Berlin
X-LIC-LOCATION:Europe/Berlin
BEGIN:VEVENT
UID:539218-kulturportal@zell.ortenaukultur.de
DTSTAMP:20260425T165851Z
DESCRIPTION:Kurzbeschreibung:\n Schwarzwälder Vesperspezialitäten\, fetzige
  Musik und Tanz\, das ist das Motto der Harmersbacher Heimatsommer.\n Ort:
 \n Rathausplatz\n Dorf 30\, 77784 Oberharmersbach\n Veranstalter:\n Touris
 t-Information Oberharmersbach\n Termin:\n Beginn: 12.08.2026\n Ende: 12.08
 .2026\n Tickets:\n Eintritt frei!\n Link:\n Zur Detailseite
DTSTART;TZID=Europe/Berlin:20260812T000000
DTEND;TZID=Europe/Berlin:20260812T030000
LOCATION:Rathausplatz\, Dorf 30\, 77784 Oberharmersbach
SUMMARY:Harmersbacher Heimatsommer\, Rathausplatz
X-ALT-DESC;FMTTYPE=text/html:<strong>Kurzbeschreibung:</strong><br/>Schwarz
 wälder Vesperspezialitäten\, fetzige Musik und Tanz\, das ist das Motto de
 r Harmersbacher Heimatsommer.<br /><strong>Ort:</strong><br/>Rathausplatz<
 br/>Dorf 30\, 77784 Oberharmersbach<br /><strong>Veranstalter:</strong><br
 />Tourist-Information Oberharmersbach<br /><strong>Termin:</strong><br/>Be
 ginn: 12.08.2026<br/>Ende: 12.08.2026<br /><strong>Tickets: </strong><br/>
 Eintritt frei!<br /><strong>Link:</strong><br/><a href='https://zell.orten
 aukultur.de/de/veranstaltungen/detail/veranstaltung/id/539218-harmersbache
 r-heimatsommer/?vt=1'>Zur Detailseite</a>
END:VEVENT
END:VCALENDAR
