BEGIN:VCALENDAR
VERSION:2.0
PRODID:-//zell.ortenaukultur.de//NONSGML kigkonsult.se iCalcreator 2.41.92//
CALSCALE:GREGORIAN
METHOD:PUBLISH
UID:65633961-6134-4766-a538-313835383835
X-WR-TIMEZONE:Europe/Berlin
X-LIC-LOCATION:Europe/Berlin
BEGIN:VEVENT
UID:557507-kulturportal@zell.ortenaukultur.de
DTSTAMP:20260425T140126Z
DESCRIPTION:Kurzbeschreibung:\n DER ANTIKMARKT IN DER GENGENBACHER ALTSTADT
 \n Ort:\n Klosterplatz\n Hauptstr.\, 77723 Gengenbach\n Veranstalter:\n gu
 t Gengenbacher Unternehmer Team\n Termin:\n Beginn: 17.10.2026\, 12:00 Uhr
 \n Ende: 17.10.2026\n Link:\n Zur Detailseite
DTSTART;TZID=Europe/Berlin:20261017T120000
DTEND;TZID=Europe/Berlin:20261017T150000
LOCATION:Klosterplatz\, Hauptstr.\, 77723 Gengenbach
SUMMARY:Altstadt Antikmarkt\, Historischer Marktplatz Gengenbach
X-ALT-DESC;FMTTYPE=text/html:<strong>Kurzbeschreibung:</strong><br/>DER ANT
 IKMARKT IN DER GENGENBACHER ALTSTADT<br /><strong>Ort:</strong><br/>Kloste
 rplatz<br/>Hauptstr.\, 77723 Gengenbach<br /><strong>Veranstalter:</strong
 ><br/>gut Gengenbacher Unternehmer Team<br /><strong>Termin:</strong><br/>
 Beginn: 17.10.2026\, 12:00 Uhr<br/>Ende: 17.10.2026<br /><strong>Link:</st
 rong><br/><a href='https://zell.ortenaukultur.de/de/veranstaltungen/detail
 /veranstaltung/id/557507-altstadt-antikmarkt/?vt=1'>Zur Detailseite</a>
END:VEVENT
END:VCALENDAR
