BEGIN:VCALENDAR
VERSION:2.0
PRODID:-//zell.ortenaukultur.de//NONSGML kigkonsult.se iCalcreator 2.41.92//
CALSCALE:GREGORIAN
METHOD:PUBLISH
UID:35356536-3262-4534-b437-356237646263
X-WR-TIMEZONE:Europe/Berlin
X-LIC-LOCATION:Europe/Berlin
BEGIN:VEVENT
UID:583305-kulturportal@zell.ortenaukultur.de
DTSTAMP:20260425T030047Z
DESCRIPTION:Kurzbeschreibung:\n Gemeinsam Musik machen in der Pfarrkirche S
 t. Ulrich. Danach Glühweinhock im Bürgerpark.\n Ort:\n Pfarrkirche St. Ulr
 ich\n Im Dorf 22\, 77787 Nordrach\n Veranstalter:\n Trachtenkapelle Nordra
 ch e.V.\n Termin:\n Beginn: 12.12.2026\, 18:00 Uhr\n Ende: 12.12.2026\n Li
 nk:\n Zur Detailseite
DTSTART;TZID=Europe/Berlin:20261212T180000
DTEND;TZID=Europe/Berlin:20261212T210000
LOCATION:Pfarrkirche St. Ulrich\, Im Dorf 22\, 77787 Nordrach
SUMMARY:Kirchenkonzert der Trachtenkapelle mit dem Chor der Klänge\, Pfarrk
 irche St. Ulrich
X-ALT-DESC;FMTTYPE=text/html:<strong>Kurzbeschreibung:</strong><br/>Gemeins
 am Musik machen in der Pfarrkirche St. Ulrich. Danach Glühweinhock im Bürg
 erpark.<br /><strong>Ort:</strong><br/>Pfarrkirche St. Ulrich<br/>Im Dorf 
 22\, 77787 Nordrach<br /><strong>Veranstalter:</strong><br/>Trachtenkapell
 e Nordrach e.V.<br /><strong>Termin:</strong><br/>Beginn: 12.12.2026\, 18:
 00 Uhr<br/>Ende: 12.12.2026<br /><strong>Link:</strong><br/><a href='https
 ://zell.ortenaukultur.de/de/veranstaltungen/detail/veranstaltung/id/583305
 -kirchenkonzert-der-trachtenkapelle-mit-dem-chor-der-klaenge/?vt=1'>Zur De
 tailseite</a>
END:VEVENT
END:VCALENDAR
