BEGIN:VCALENDAR
VERSION:2.0
PRODID:-//zell.ortenaukultur.de//NONSGML kigkonsult.se iCalcreator 2.41.92//
CALSCALE:GREGORIAN
METHOD:PUBLISH
UID:33333037-3339-4533-b938-303231353035
X-WR-TIMEZONE:Europe/Berlin
X-LIC-LOCATION:Europe/Berlin
BEGIN:VEVENT
UID:584789-kulturportal@zell.ortenaukultur.de
DTSTAMP:20260425T121509Z
DESCRIPTION:Kurzbeschreibung:\n Maihock in Strohbach\n Ort:\n Rathausplatz 
 Strohbach\, Gengenbach-Strohbach\n Veranstalter:\n wird noch bekannt gegeb
 en\n Termin:\n Beginn: 30.04.2026\, 17:00 Uhr\n Ende: 30.04.2026\n Link:\n
  Zur Detailseite
DTSTART;TZID=Europe/Berlin:20260430T170000
DTEND;TZID=Europe/Berlin:20260430T200000
LOCATION:Rathausplatz Strohbach\, Gengenbach-Strohbach
SUMMARY:Maihock in Strohbach\, Rathausplatz Strohbach
X-ALT-DESC;FMTTYPE=text/html:<strong>Kurzbeschreibung:</strong><br/>Maihock
  in Strohbach<br /><strong>Ort:</strong><br/>Rathausplatz Strohbach\, Geng
 enbach-Strohbach<br /><strong>Veranstalter:</strong><br/>wird noch bekannt
  gegeben<br /><strong>Termin:</strong><br/>Beginn: 30.04.2026\, 17:00 Uhr<
 br/>Ende: 30.04.2026<br /><strong>Link:</strong><br/><a href='https://zell
 .ortenaukultur.de/de/veranstaltungen/detail/veranstaltung/id/584789-maihoc
 k-in-strohbach/?vt=1'>Zur Detailseite</a>
END:VEVENT
END:VCALENDAR
