BEGIN:VCALENDAR
VERSION:2.0
PRODID:-//zell.ortenaukultur.de//NONSGML kigkonsult.se iCalcreator 2.41.92//
CALSCALE:GREGORIAN
METHOD:PUBLISH
UID:62303339-6239-4235-a365-376435646633
X-WR-TIMEZONE:Europe/Berlin
X-LIC-LOCATION:Europe/Berlin
BEGIN:VEVENT
UID:584869-kulturportal@zell.ortenaukultur.de
DTSTAMP:20260425T122639Z
DESCRIPTION:Kurzbeschreibung:\n Maifest bei der Berglerhütte\n Ort:\n Bergl
 er Hütte im Dantersbach\, Gengenbach-Schwaibach\n Veranstalter:\n Berg- un
 d Wanderfreunde Schwaibach\n Termin:\n Beginn: 01.05.2026\, 10:00 Uhr\n En
 de: 01.05.2026\n Link:\n Zur Detailseite
DTSTART;TZID=Europe/Berlin:20260501T100000
DTEND;TZID=Europe/Berlin:20260501T130000
LOCATION:Bergler Hütte im Dantersbach\, Gengenbach-Schwaibach
SUMMARY:Maifest bei der Berglerhütte\, Bergler Hütte im Dantersbach
X-ALT-DESC;FMTTYPE=text/html:<strong>Kurzbeschreibung:</strong><br/>Maifest
  bei der Berglerhütte<br /><strong>Ort:</strong><br/>Bergler Hütte im Dant
 ersbach\, Gengenbach-Schwaibach<br /><strong>Veranstalter:</strong><br/>Be
 rg- und Wanderfreunde Schwaibach<br /><strong>Termin:</strong><br/>Beginn:
  01.05.2026\, 10:00 Uhr<br/>Ende: 01.05.2026<br /><strong>Link:</strong><b
 r/><a href='https://zell.ortenaukultur.de/de/veranstaltungen/detail/verans
 taltung/id/584869-maifest-bei-der-berglerhuette/?vt=1'>Zur Detailseite</a>
END:VEVENT
END:VCALENDAR
