BEGIN:VCALENDAR
VERSION:2.0
PRODID:-//zell.ortenaukultur.de//NONSGML kigkonsult.se iCalcreator 2.41.92//
CALSCALE:GREGORIAN
METHOD:PUBLISH
UID:62656439-3162-4734-a438-383965303231
X-WR-TIMEZONE:Europe/Berlin
X-LIC-LOCATION:Europe/Berlin
BEGIN:VEVENT
UID:584918-kulturportal@zell.ortenaukultur.de
DTSTAMP:20260425T140040Z
DESCRIPTION:Kurzbeschreibung:\n Tanz in den Mai der KLJB Reichenbach\n Ort:
 \n Altes Schulhaus\, Gengenbach-Reichenbach\n Veranstalter:\n KLJB Reichen
 bach\n Termin:\n Beginn: 30.04.2026\, 20:00 Uhr\n Ende: 30.04.2026\n Link:
 \n Zur Detailseite
DTSTART;TZID=Europe/Berlin:20260430T200000
DTEND;TZID=Europe/Berlin:20260430T230000
LOCATION:Altes Schulhaus\, Gengenbach-Reichenbach
SUMMARY:Tanz in den Mai der KLJB Reichenbach\, Altes Schulhaus
X-ALT-DESC;FMTTYPE=text/html:<strong>Kurzbeschreibung:</strong><br/>Tanz in
  den Mai der KLJB Reichenbach<br /><strong>Ort:</strong><br/>Altes Schulha
 us\, Gengenbach-Reichenbach<br /><strong>Veranstalter:</strong><br/>KLJB R
 eichenbach<br /><strong>Termin:</strong><br/>Beginn: 30.04.2026\, 20:00 Uh
 r<br/>Ende: 30.04.2026<br /><strong>Link:</strong><br/><a href='https://ze
 ll.ortenaukultur.de/de/veranstaltungen/detail/veranstaltung/id/584918-tanz
 -in-den-mai-der-kljb-reichenbach/?vt=1'>Zur Detailseite</a>
END:VEVENT
END:VCALENDAR
