BEGIN:VCALENDAR
VERSION:2.0
PRODID:-//zell.ortenaukultur.de//NONSGML kigkonsult.se iCalcreator 2.41.92//
CALSCALE:GREGORIAN
METHOD:PUBLISH
UID:36636438-6562-4265-b038-313966383036
X-WR-TIMEZONE:Europe/Berlin
X-LIC-LOCATION:Europe/Berlin
BEGIN:VEVENT
UID:367898-kulturportal@zell.ortenaukultur.de
DTSTAMP:20260425T104140Z
DESCRIPTION:Kurzbeschreibung:\n Konfirmationsgottesdienst\n Ort:\n Evangeli
 sche Kirche Gengenbach\n Grabenstraße 13-15\, 77723 Gengenbach\n Veranstal
 ter:\n Evangelische Kirchengemeinde\n Termin:\n Beginn: 26.04.2026\, 10:00
  Uhr\n Ende: 26.04.2026\n Link:\n Zur Detailseite
DTSTART;TZID=Europe/Berlin:20260426T100000
DTEND;TZID=Europe/Berlin:20260426T130000
LOCATION:Evangelische Kirche Gengenbach\, Grabenstraße 13-15\, 77723 Gengen
 bach
SUMMARY:Konfirmation\, Evangelische Kirche Gengenbach
X-ALT-DESC;FMTTYPE=text/html:<strong>Kurzbeschreibung:</strong><br/>Konfirm
 ationsgottesdienst<br /><strong>Ort:</strong><br/>Evangelische Kirche Geng
 enbach<br/>Grabenstraße 13-15\, 77723 Gengenbach<br /><strong>Veranstalter
 :</strong><br/>Evangelische Kirchengemeinde<br /><strong>Termin:</strong><
 br/>Beginn: 26.04.2026\, 10:00 Uhr<br/>Ende: 26.04.2026<br /><strong>Link:
 </strong><br/><a href='https://zell.ortenaukultur.de/de/veranstaltungen/de
 tail/veranstaltung/id/367898-konfirmation/?vt=1'>Zur Detailseite</a>
END:VEVENT
END:VCALENDAR
