BEGIN:VCALENDAR
VERSION:2.0
PRODID:-//zell.ortenaukultur.de//NONSGML kigkonsult.se iCalcreator 2.41.92//
CALSCALE:GREGORIAN
METHOD:PUBLISH
UID:61376364-3431-4265-b630-383966613234
X-WR-TIMEZONE:Europe/Berlin
X-LIC-LOCATION:Europe/Berlin
BEGIN:VEVENT
UID:368100-kulturportal@zell.ortenaukultur.de
DTSTAMP:20260425T121307Z
DESCRIPTION:Kurzbeschreibung:\n Hock beim Fürstenberger Hof mit der Stadtka
 pelle\n Blitzinfo:\n Abgesagt!\n Ort:\n Heimatmuseum Fürstenberger Hof\n S
 teinrücken 5\, 77736 Zell am Harmersbach\n Veranstalter:\n Tourist-Informa
 tion Zell am Harmersbach\n Termin:\n Beginn: 23.07.2026\, 19:30 Uhr\n Ende
 : 23.07.2026\n Link:\n Zur Detailseite
DTSTART;TZID=Europe/Berlin:20260723T193000
DTEND;TZID=Europe/Berlin:20260723T223000
LOCATION:Heimatmuseum Fürstenberger Hof\, Steinrücken 5\, 77736 Zell am Har
 mersbach
SUMMARY:Hock beim Fürstenberger Hof mit der Stadtkapelle\, Heimatmuseum Für
 stenberger Hof
X-ALT-DESC;FMTTYPE=text/html:<strong>Kurzbeschreibung:</strong><br/>Hock be
 im Fürstenberger Hof mit der Stadtkapelle<br /><strong>Blitzinfo:</strong>
 <br/>Abgesagt!<br /><strong>Ort:</strong><br/>Heimatmuseum Fürstenberger H
 of<br/>Steinrücken 5\, 77736 Zell am Harmersbach<br /><strong>Veranstalter
 :</strong><br/>Tourist-Information Zell am Harmersbach<br /><strong>Termin
 :</strong><br/>Beginn: 23.07.2026\, 19:30 Uhr<br/>Ende: 23.07.2026<br /><s
 trong>Link:</strong><br/><a href='https://zell.ortenaukultur.de/de/veranst
 altungen/detail/veranstaltung/id/368100-hock-beim-fuerstenberger-hof-mit-d
 er-stadtkapelle/?vt=1'>Zur Detailseite</a>
END:VEVENT
END:VCALENDAR
