BEGIN:VCALENDAR
VERSION:2.0
PRODID:-//zell.ortenaukultur.de//NONSGML kigkonsult.se iCalcreator 2.41.92//
CALSCALE:GREGORIAN
METHOD:PUBLISH
UID:36623339-3732-4239-b664-653164386639
X-WR-TIMEZONE:Europe/Berlin
X-LIC-LOCATION:Europe/Berlin
BEGIN:VEVENT
UID:425013-kulturportal@zell.ortenaukultur.de
DTSTAMP:20260425T133153Z
DESCRIPTION:Kurzbeschreibung:\n Lichterprozession und Kräuterweihe am Vorab
 end des großen Wallfahrtstages 'Maria zu den Ketten'\n Ort:\n Wallfahrtski
 rche 'Maria zu den Ketten'\, Zell am Harmersbach\n Veranstalter:\n Kapuzin
 erkloster\n Termin:\n Beginn: 14.08.2026\, 20:30 Uhr\n Ende: 14.08.2026\n 
 Link:\n Zur Detailseite
DTSTART;TZID=Europe/Berlin:20260814T203000
DTEND;TZID=Europe/Berlin:20260814T233000
LOCATION:Wallfahrtskirche 'Maria zu den Ketten'\, Zell am Harmersbach
SUMMARY:Lichterprozession\, Wallfahrtskirche 'Maria zu den Ketten'
X-ALT-DESC;FMTTYPE=text/html:<strong>Kurzbeschreibung:</strong><br/>Lichter
 prozession und Kräuterweihe am Vorabend des großen Wallfahrtstages 'Maria 
 zu den Ketten'<br /><strong>Ort:</strong><br/>Wallfahrtskirche 'Maria zu d
 en Ketten'\, Zell am Harmersbach<br /><strong>Veranstalter:</strong><br/>K
 apuzinerkloster<br /><strong>Termin:</strong><br/>Beginn: 14.08.2026\, 20:
 30 Uhr<br/>Ende: 14.08.2026<br /><strong>Link:</strong><br/><a href='https
 ://zell.ortenaukultur.de/de/veranstaltungen/detail/veranstaltung/id/425013
 -lichterprozession/?vt=1'>Zur Detailseite</a>
END:VEVENT
END:VCALENDAR
