BEGIN:VCALENDAR
VERSION:2.0
PRODID:-//zell.ortenaukultur.de//NONSGML kigkonsult.se iCalcreator 2.41.92//
CALSCALE:GREGORIAN
METHOD:PUBLISH
UID:36303035-3137-4761-b334-623033366166
X-WR-TIMEZONE:Europe/Berlin
X-LIC-LOCATION:Europe/Berlin
BEGIN:VEVENT
UID:450210-kulturportal@zell.ortenaukultur.de
DTSTAMP:20260425T131122Z
DESCRIPTION:Kurzbeschreibung:\n Im August lädt der Stadtpark immer donnerst
 ags zum Kultur-Picknick ein. Locker vom (No)Hocker\, ist das Motto – für K
 ünstler und Besucher.\n Ort:\n Stadtpark\, Zell am Harmersbach\n Veranstal
 ter:\n Kultur und Stadtmarketing\n Termin:\n Beginn: 20.08.2026\n Ende: 20
 .08.2026\n Link:\n Zur Detailseite
DTSTART;TZID=Europe/Berlin:20260820T000000
DTEND;TZID=Europe/Berlin:20260820T030000
LOCATION:Stadtpark\, Zell am Harmersbach
SUMMARY:Nohocker-Party\, Stadtpark
X-ALT-DESC;FMTTYPE=text/html:<strong>Kurzbeschreibung:</strong><br/>Im Augu
 st lädt der Stadtpark immer donnerstags zum Kultur-Picknick ein. \nLocker 
 vom (No)Hocker\, ist das Motto – für Künstler und Besucher.<br /><strong>O
 rt:</strong><br/>Stadtpark\, Zell am Harmersbach<br /><strong>Veranstalter
 :</strong><br/>Kultur und Stadtmarketing<br /><strong>Termin:</strong><br/
 >Beginn: 20.08.2026<br/>Ende: 20.08.2026<br /><strong>Link:</strong><br/><
 a href='https://zell.ortenaukultur.de/de/veranstaltungen/detail/veranstalt
 ung/id/450210-nohocker-party/?vt=1'>Zur Detailseite</a>
END:VEVENT
END:VCALENDAR
