BEGIN:VCALENDAR
VERSION:2.0
PRODID:-//zell.ortenaukultur.de//NONSGML kigkonsult.se iCalcreator 2.41.92//
CALSCALE:GREGORIAN
METHOD:PUBLISH
UID:66626463-6234-4338-a337-666335343630
X-WR-TIMEZONE:Europe/Berlin
X-LIC-LOCATION:Europe/Berlin
BEGIN:VEVENT
UID:450881-kulturportal@zell.ortenaukultur.de
DTSTAMP:20260425T121242Z
DESCRIPTION:Kurzbeschreibung:\n Zell tanzt - Tanzworkshop des Tanzsportclub
  Harmersbachtal\n Ort:\n Jahnturnhalle oder Ritter von Buss Halle\n Jahnst
 r.\, 77736 Zell am Harmersbach\n Veranstalter:\n Tanzsportclub Harmersbach
 tal e. V. 1982\n Termin:\n Beginn: 12.07.2026\, 13:00 Uhr\n Ende: 12.07.20
 26\n Link:\n Zur Detailseite
DTSTART;TZID=Europe/Berlin:20260712T130000
DTEND;TZID=Europe/Berlin:20260712T160000
LOCATION:Jahnturnhalle oder Ritter von Buss Halle\, Jahnstr.\, 77736 Zell a
 m Harmersbach
SUMMARY:Zell tanzt\, Jahnturnhalle
X-ALT-DESC;FMTTYPE=text/html:<strong>Kurzbeschreibung:</strong><br/>Zell ta
 nzt - Tanzworkshop des Tanzsportclub Harmersbachtal<br /><strong>Ort:</str
 ong><br/>Jahnturnhalle oder Ritter von Buss Halle<br/>Jahnstr.\, 77736 Zel
 l am Harmersbach<br /><strong>Veranstalter:</strong><br/>Tanzsportclub Har
 mersbachtal e. V. 1982<br /><strong>Termin:</strong><br/>Beginn: 12.07.202
 6\, 13:00 Uhr<br/>Ende: 12.07.2026<br /><strong>Link:</strong><br/><a href
 ='https://zell.ortenaukultur.de/de/veranstaltungen/detail/veranstaltung/id
 /450881-zell-tanzt/?vt=1'>Zur Detailseite</a>
END:VEVENT
END:VCALENDAR
