BEGIN:VCALENDAR
VERSION:2.0
PRODID:-//zell.ortenaukultur.de//NONSGML kigkonsult.se iCalcreator 2.41.92//
CALSCALE:GREGORIAN
METHOD:PUBLISH
UID:30313864-3633-4032-a264-663233343632
X-WR-TIMEZONE:Europe/Berlin
X-LIC-LOCATION:Europe/Berlin
BEGIN:VEVENT
UID:499354-kulturportal@zell.ortenaukultur.de
DTSTAMP:20260425T105128Z
DESCRIPTION:Kurzbeschreibung:\n Hock auf dem Kanzleiplatz mit der Stadtkape
 lle\n Ort:\n Kanzleiplatz\n Kanzleiplatz 1\, 77736 Zell am Harmersbach\n V
 eranstalter:\n Stadtkapelle Zell a.H.\n Termin:\n Beginn: 21.05.2026\, 19:
 30 Uhr\n Ende: 21.05.2026\n Link:\n Zur Detailseite
DTSTART;TZID=Europe/Berlin:20260521T193000
DTEND;TZID=Europe/Berlin:20260521T223000
LOCATION:Kanzleiplatz\, Kanzleiplatz 1\, 77736 Zell am Harmersbach
SUMMARY:Hock auf dem Kanzleiplatz mit der Stadtkapelle\, Kanzleiplatz
X-ALT-DESC;FMTTYPE=text/html:<strong>Kurzbeschreibung:</strong><br/>Hock au
 f dem Kanzleiplatz mit der Stadtkapelle<br /><strong>Ort:</strong><br/>Kan
 zleiplatz<br/>Kanzleiplatz 1\, 77736 Zell am Harmersbach<br /><strong>Vera
 nstalter:</strong><br/>Stadtkapelle Zell a.H.<br /><strong>Termin:</strong
 ><br/>Beginn: 21.05.2026\, 19:30 Uhr<br/>Ende: 21.05.2026<br /><strong>Lin
 k:</strong><br/><a href='https://zell.ortenaukultur.de/de/veranstaltungen/
 detail/veranstaltung/id/499354-hock-auf-dem-kanzleiplatz-mit-der-stadtkape
 lle/?vt=1'>Zur Detailseite</a>
END:VEVENT
END:VCALENDAR
