BEGIN:VCALENDAR
VERSION:2.0
PRODID:-//zell.ortenaukultur.de//NONSGML kigkonsult.se iCalcreator 2.41.92//
CALSCALE:GREGORIAN
METHOD:PUBLISH
UID:30626233-3035-4133-a163-393630356162
X-WR-TIMEZONE:Europe/Berlin
X-LIC-LOCATION:Europe/Berlin
BEGIN:VEVENT
UID:512570-kulturportal@zell.ortenaukultur.de
DTSTAMP:20260425T133611Z
DESCRIPTION:Kurzbeschreibung:\n Volksliedersingen für JederMann/Frau. Gemei
 nsam werden altbekannten Lieder angestimmt mit Akkordeonbegleitung.\n Ort:
 \n Donissi Hofladen & Probierstube\n Hub 5\, 77784 Oberharmersbach\n Veran
 stalter:\n Volkslieder Singkreis\n Termin:\n Beginn: 29.05.2026\, 17:00 Uh
 r\n Ende: 29.05.2026\n Tickets:\n Eintritt frei!\n Link:\n Zur Detailseite
DTSTART;TZID=Europe/Berlin:20260529T170000
DTEND;TZID=Europe/Berlin:20260529T200000
LOCATION:Donissi Hofladen & Probierstube\, Hub 5\, 77784 Oberharmersbach
SUMMARY:Volksliedersingen in Donissis Probierstube\, Donissi Hofladen & Pro
 bierstube
X-ALT-DESC;FMTTYPE=text/html:<strong>Kurzbeschreibung:</strong><br/>Volksli
 edersingen für JederMann/Frau. Gemeinsam werden altbekannten Lieder angest
 immt mit Akkordeonbegleitung.<br /><strong>Ort:</strong><br/>Donissi Hofla
 den & Probierstube<br/>Hub 5\, 77784 Oberharmersbach<br /><strong>Veransta
 lter:</strong><br/>Volkslieder Singkreis<br /><strong>Termin:</strong><br/
 >Beginn: 29.05.2026\, 17:00 Uhr<br/>Ende: 29.05.2026<br /><strong>Tickets:
  </strong><br/>Eintritt frei!<br /><strong>Link:</strong><br/><a href='htt
 ps://zell.ortenaukultur.de/de/veranstaltungen/detail/veranstaltung/id/5125
 70-volksliedersingen-in-donissis-probierstube/?vt=1'>Zur Detailseite</a>
END:VEVENT
END:VCALENDAR
