BEGIN:VCALENDAR
VERSION:2.0
PRODID:-//zell.ortenaukultur.de//NONSGML kigkonsult.se iCalcreator 2.41.92//
CALSCALE:GREGORIAN
METHOD:PUBLISH
UID:37623939-3164-4431-b862-633238343930
X-WR-TIMEZONE:Europe/Berlin
X-LIC-LOCATION:Europe/Berlin
BEGIN:VEVENT
UID:523593-kulturportal@zell.ortenaukultur.de
DTSTAMP:20260425T122629Z
DESCRIPTION:Kurzbeschreibung:\n Hock beim Dorfgemeinschaftshaus mit dem Mus
 ikverein Unterentersbach\n Ort:\n Dorfgemeinschaftshaus Unterentersbach\n 
 Zeller Str. 12\, 77736 Zell am Harmersbach\n Veranstalter:\n Tourist-Infor
 mation\n Termin:\n Beginn: 19.06.2026\, 19:30 Uhr\n Ende: 19.06.2026\n Lin
 k:\n Zur Detailseite
DTSTART;TZID=Europe/Berlin:20260619T193000
DTEND;TZID=Europe/Berlin:20260619T223000
LOCATION:Dorfgemeinschaftshaus Unterentersbach\, Zeller Str. 12\, 77736 Zel
 l am Harmersbach
SUMMARY:Hock beim Dorfgemeinschaftshaus mit dem Musikverein Unterentersbach
 \, Dorfgemeinschaftshaus Unterentersbach
X-ALT-DESC;FMTTYPE=text/html:<strong>Kurzbeschreibung:</strong><br/>Hock be
 im Dorfgemeinschaftshaus mit dem Musikverein Unterentersbach<br /><strong>
 Ort:</strong><br/>Dorfgemeinschaftshaus Unterentersbach<br/>Zeller Str. 12
 \, 77736 Zell am Harmersbach<br /><strong>Veranstalter:</strong><br/>Touri
 st-Information<br /><strong>Termin:</strong><br/>Beginn: 19.06.2026\, 19:3
 0 Uhr<br/>Ende: 19.06.2026<br /><strong>Link:</strong><br/><a href='https:
 //zell.ortenaukultur.de/de/veranstaltungen/detail/veranstaltung/id/523593-
 hock-beim-dorfgemeinschaftshaus-mit-dem-musikverein-unterentersbach/?vt=1'
 >Zur Detailseite</a>
END:VEVENT
END:VCALENDAR
