BEGIN:VCALENDAR
VERSION:2.0
PRODID:-//zell.ortenaukultur.de//NONSGML kigkonsult.se iCalcreator 2.41.92//
CALSCALE:GREGORIAN
METHOD:PUBLISH
UID:34626631-6635-4937-b966-653262633638
X-WR-TIMEZONE:Europe/Berlin
X-LIC-LOCATION:Europe/Berlin
BEGIN:VEVENT
UID:527015-kulturportal@zell.ortenaukultur.de
DTSTAMP:20260425T104130Z
DESCRIPTION:Kurzbeschreibung:\n Nun geht es endlich los! Einschulungsfeier 
 der Grundschule Nordrach\n Ort:\n Bürgerhaus\n Im Dorf 20\, 77787 Nordrach
 \n Veranstalter:\n Grundschule Nordrach\n Termin:\n Beginn: 19.09.2026\, 1
 0:00 Uhr\n Ende: 19.09.2026\n Link:\n Zur Detailseite
DTSTART;TZID=Europe/Berlin:20260919T100000
DTEND;TZID=Europe/Berlin:20260919T130000
LOCATION:Bürgerhaus\, Im Dorf 20\, 77787 Nordrach
SUMMARY:Einschulungsfeier\, Bürgerhaus
X-ALT-DESC;FMTTYPE=text/html:<strong>Kurzbeschreibung:</strong><br/>Nun geh
 t es endlich los! Einschulungsfeier der Grundschule Nordrach<br /><strong>
 Ort:</strong><br/>Bürgerhaus<br/>Im Dorf 20\, 77787  Nordrach<br /><strong
 >Veranstalter:</strong><br/>Grundschule Nordrach<br /><strong>Termin:</str
 ong><br/>Beginn: 19.09.2026\, 10:00 Uhr<br/>Ende: 19.09.2026<br /><strong>
 Link:</strong><br/><a href='https://zell.ortenaukultur.de/de/veranstaltung
 en/detail/veranstaltung/id/527015-einschulungsfeier/?vt=1'>Zur Detailseite
 </a>
END:VEVENT
END:VCALENDAR
