BEGIN:VCALENDAR
VERSION:2.0
PRODID:-//zell.ortenaukultur.de//NONSGML kigkonsult.se iCalcreator 2.41.92//
CALSCALE:GREGORIAN
METHOD:PUBLISH
UID:35333462-3864-4666-b734-373331313733
X-WR-TIMEZONE:Europe/Berlin
X-LIC-LOCATION:Europe/Berlin
BEGIN:VEVENT
UID:531757-kulturportal@zell.ortenaukultur.de
DTSTAMP:20260425T115331Z
DESCRIPTION:Kurzbeschreibung:\n Nutzen Sie die Chance auf eine kleine Erhol
 ung vom Alltag!\n Ort:\n Neue Ortsmitte\n Hauptstraße\, 77781 Biberach\n V
 eranstalter:\n Gemeinde Biberach\n Termin:\n Beginn: 19.08.2026\, 19:00 Uh
 r\n Ende: 19.08.2026\n Link:\n Zur Detailseite
DTSTART;TZID=Europe/Berlin:20260819T190000
DTEND;TZID=Europe/Berlin:20260819T220000
LOCATION:Neue Ortsmitte\, Hauptstraße\, 77781 Biberach
SUMMARY:Tavernenabend in Biberach\, Neue Ortsmitte
X-ALT-DESC;FMTTYPE=text/html:<strong>Kurzbeschreibung:</strong><br/>Nutzen 
 Sie die Chance auf eine kleine Erholung vom Alltag!<br /><strong>Ort:</str
 ong><br/>Neue Ortsmitte<br/>Hauptstraße\, 77781 Biberach<br /><strong>Vera
 nstalter:</strong><br/>Gemeinde Biberach<br /><strong>Termin:</strong><br/
 >Beginn: 19.08.2026\, 19:00 Uhr<br/>Ende: 19.08.2026<br /><strong>Link:</s
 trong><br/><a href='https://zell.ortenaukultur.de/de/veranstaltungen/detai
 l/veranstaltung/id/531757-tavernenabend-in-biberach/?vt=1'>Zur Detailseite
 </a>
END:VEVENT
END:VCALENDAR
