BEGIN:VCALENDAR
VERSION:2.0
PRODID:-//zell.ortenaukultur.de//NONSGML kigkonsult.se iCalcreator 2.41.92//
CALSCALE:GREGORIAN
METHOD:PUBLISH
UID:38636530-3231-4066-a365-346266623132
X-WR-TIMEZONE:Europe/Berlin
X-LIC-LOCATION:Europe/Berlin
BEGIN:VEVENT
UID:531758-kulturportal@zell.ortenaukultur.de
DTSTAMP:20260425T115336Z
DESCRIPTION:Kurzbeschreibung:\n Nutzen Sie die Chance auf eine kleine Erhol
 ung vom Alltag!\n Ort:\n Neue Ortsmitte\n Hauptstraße\, 77781 Biberach\n V
 eranstalter:\n Gemeinde Biberach\n Termin:\n Beginn: 26.08.2026\, 19:00 Uh
 r\n Ende: 26.08.2026\n Link:\n Zur Detailseite
DTSTART;TZID=Europe/Berlin:20260826T190000
DTEND;TZID=Europe/Berlin:20260826T220000
LOCATION:Neue Ortsmitte\, Hauptstraße\, 77781 Biberach
SUMMARY:Tavernenabend in Biberach\, Neue Ortsmitte
X-ALT-DESC;FMTTYPE=text/html:<strong>Kurzbeschreibung:</strong><br/>Nutzen 
 Sie die Chance auf eine kleine Erholung vom Alltag!<br /><strong>Ort:</str
 ong><br/>Neue Ortsmitte<br/>Hauptstraße\, 77781 Biberach<br /><strong>Vera
 nstalter:</strong><br/>Gemeinde Biberach<br /><strong>Termin:</strong><br/
 >Beginn: 26.08.2026\, 19:00 Uhr<br/>Ende: 26.08.2026<br /><strong>Link:</s
 trong><br/><a href='https://zell.ortenaukultur.de/de/veranstaltungen/detai
 l/veranstaltung/id/531758-tavernenabend-in-biberach/?vt=1'>Zur Detailseite
 </a>
END:VEVENT
END:VCALENDAR
