BEGIN:VCALENDAR
VERSION:2.0
PRODID:-//zell.ortenaukultur.de//NONSGML kigkonsult.se iCalcreator 2.41.92//
CALSCALE:GREGORIAN
METHOD:PUBLISH
UID:36656232-3732-4535-b034-623238346263
X-WR-TIMEZONE:Europe/Berlin
X-LIC-LOCATION:Europe/Berlin
BEGIN:VEVENT
UID:557261-kulturportal@zell.ortenaukultur.de
DTSTAMP:20260425T105256Z
DESCRIPTION:Kurzbeschreibung:\n Fronleichnam mit Prozession\, Blumenteppich
 en und Aufmarsch der Bürgergarde\n Ort:\n Stadtkirche St. Marien\n \, 7772
 3 Gengenbach\n Veranstalter:\n Katholisches Pfarramt\n Termin:\n Beginn: 0
 4.06.2026\, 09:00 Uhr\n Ende: 04.06.2026\n Link:\n Zur Detailseite
DTSTART;TZID=Europe/Berlin:20260604T090000
DTEND;TZID=Europe/Berlin:20260604T120000
LOCATION:Stadtkirche St. Marien\, \, 77723 Gengenbach
SUMMARY:Fronleichnam - Eucharistiefeier im Klosterhof mit Prozession\, Blum
 enteppichen und Aufmarsch der Bürgergarde\, Stadtkirche St. Marien
X-ALT-DESC;FMTTYPE=text/html:<strong>Kurzbeschreibung:</strong><br/>Fronlei
 chnam mit Prozession\, Blumenteppichen und Aufmarsch der Bürgergarde<br />
 <strong>Ort:</strong><br/>Stadtkirche St. Marien<br/>\, 77723 Gengenbach<b
 r /><strong>Veranstalter:</strong><br/>Katholisches Pfarramt<br /><strong>
 Termin:</strong><br/>Beginn: 04.06.2026\, 09:00 Uhr<br/>Ende: 04.06.2026<b
 r /><strong>Link:</strong><br/><a href='https://zell.ortenaukultur.de/de/v
 eranstaltungen/detail/veranstaltung/id/557261-fronleichnam-eucharistiefeie
 r-im-klosterhof-mit-prozession-blumenteppichen-und-aufmarsch-der-buergerga
 rde/?vt=1'>Zur Detailseite</a>
END:VEVENT
END:VCALENDAR
