BEGIN:VCALENDAR
VERSION:2.0
PRODID:-//zell.ortenaukultur.de//NONSGML kigkonsult.se iCalcreator 2.41.92//
CALSCALE:GREGORIAN
METHOD:PUBLISH
UID:35383139-3637-4139-a238-376634616131
X-WR-TIMEZONE:Europe/Berlin
X-LIC-LOCATION:Europe/Berlin
BEGIN:VEVENT
UID:561543-kulturportal@zell.ortenaukultur.de
DTSTAMP:20260425T164549Z
DESCRIPTION:Kurzbeschreibung:\n Zu unserem Info-Tag laden wir sowohl die Mi
 tglieder als auch alle\, die an unserer Vereinsarbeit Interesse haben herz
 lich ein.\n Ort:\n Vereinsgelände beim Sportpark \, Zell am Harmersbach\n 
 Veranstalter:\n PFUND - Fun mit Pferd und Hund e. V.\n Termin:\n Beginn: 2
 7.09.2026\, 13:00 Uhr\n Ende: 27.09.2026\n Link:\n Zur Detailseite
DTSTART;TZID=Europe/Berlin:20260927T130000
DTEND;TZID=Europe/Berlin:20260927T160000
LOCATION:Vereinsgelände beim Sportpark \, Zell am Harmersbach
SUMMARY:Hunde-Herbstfest\, Vereinsgelände beim Sportpark
X-ALT-DESC;FMTTYPE=text/html:<strong>Kurzbeschreibung:</strong><br/>Zu unse
 rem Info-Tag laden wir sowohl die Mitglieder als auch alle\, die an unsere
 r Vereinsarbeit Interesse haben herzlich ein.<br /><strong>Ort:</strong><b
 r/>Vereinsgelände beim Sportpark \, Zell am Harmersbach<br /><strong>Veran
 stalter:</strong><br/>PFUND - Fun mit Pferd und Hund e. V.<br /><strong>Te
 rmin:</strong><br/>Beginn: 27.09.2026\, 13:00 Uhr<br/>Ende: 27.09.2026<br 
 /><strong>Link:</strong><br/><a href='https://zell.ortenaukultur.de/de/ver
 anstaltungen/detail/veranstaltung/id/561543-hunde-herbstfest/?vt=1'>Zur De
 tailseite</a>
END:VEVENT
END:VCALENDAR
