BEGIN:VCALENDAR
VERSION:2.0
PRODID:-//zell.ortenaukultur.de//NONSGML kigkonsult.se iCalcreator 2.41.92//
CALSCALE:GREGORIAN
METHOD:PUBLISH
UID:35633839-6561-4637-b234-376130336663
X-WR-TIMEZONE:Europe/Berlin
X-LIC-LOCATION:Europe/Berlin
BEGIN:VEVENT
UID:582784-kulturportal@zell.ortenaukultur.de
DTSTAMP:20260424T200737Z
DESCRIPTION:Kurzbeschreibung:\n Lauscht den Liedern der Trachtenkapelle in 
 Nordrach. Es wird an verschiedenen Stationen gespielt.\n Ort:\n Höhengasth
 aus 'Vogt auf Mühlstein'\n Mühlstein 1\, 77787 Nordrach - Mühlstein\n Vera
 nstalter:\n Trachtenkapelle Nordrach e.V.\n Termin:\n Beginn: 01.05.2026\,
  06:00 Uhr\n Ende: 01.05.2026\n Link:\n Zur Detailseite
DTSTART;TZID=Europe/Berlin:20260501T060000
DTEND;TZID=Europe/Berlin:20260501T090000
LOCATION:Höhengasthaus 'Vogt auf Mühlstein'\, Mühlstein 1\, 77787 Nordrach 
 - Mühlstein
SUMMARY:1. Mai-Musik mit einigen Musikmitgliedern\, Höhengasthaus 'Vogt auf
  Mühlstein'
X-ALT-DESC;FMTTYPE=text/html:<strong>Kurzbeschreibung:</strong><br/>Lauscht
  den Liedern der Trachtenkapelle in Nordrach. Es wird an verschiedenen Sta
 tionen gespielt.\n<br /><strong>Ort:</strong><br/>Höhengasthaus 'Vogt auf 
 Mühlstein'<br/>Mühlstein 1\, 77787 Nordrach - Mühlstein<br /><strong>Veran
 stalter:</strong><br/>Trachtenkapelle Nordrach e.V.<br /><strong>Termin:</
 strong><br/>Beginn: 01.05.2026\, 06:00 Uhr<br/>Ende: 01.05.2026<br /><stro
 ng>Link:</strong><br/><a href='https://zell.ortenaukultur.de/de/veranstalt
 ungen/detail/veranstaltung/id/582784-1-mai-musik-mit-einigen-musikmitglied
 ern/?vt=1'>Zur Detailseite</a>
END:VEVENT
END:VCALENDAR
