BEGIN:VCALENDAR
VERSION:2.0
PRODID:-//zell.ortenaukultur.de//NONSGML kigkonsult.se iCalcreator 2.41.92//
CALSCALE:GREGORIAN
METHOD:PUBLISH
UID:63323562-6662-4436-a432-393034663839
X-WR-TIMEZONE:Europe/Berlin
X-LIC-LOCATION:Europe/Berlin
BEGIN:VEVENT
UID:584708-kulturportal@zell.ortenaukultur.de
DTSTAMP:20260425T110245Z
DESCRIPTION:Kurzbeschreibung:\n Männergottesdienst 'Tankstopp'\n Ort:\n Eva
 ngelisches Gemeindehaus\n Grabenstraße 15\, 77723 Gengenbach\n Veranstalte
 r:\n Evangelische Kirche Gengenbach\n Termin:\n Beginn: 19.06.2026\, 19:00
  Uhr\n Ende: 19.06.2026\n Link:\n Zur Detailseite
DTSTART;TZID=Europe/Berlin:20260619T190000
DTEND;TZID=Europe/Berlin:20260619T220000
LOCATION:Evangelisches Gemeindehaus\, Grabenstraße 15\, 77723 Gengenbach
SUMMARY:Männergottesdienst 'Tankstopp'\, Evangelisches Gemeindehaus
X-ALT-DESC;FMTTYPE=text/html:<strong>Kurzbeschreibung:</strong><br/>Männerg
 ottesdienst 'Tankstopp'<br /><strong>Ort:</strong><br/>Evangelisches Gemei
 ndehaus<br/>Grabenstraße 15\, 77723 Gengenbach<br /><strong>Veranstalter:<
 /strong><br/>Evangelische Kirche Gengenbach<br /><strong>Termin:</strong><
 br/>Beginn: 19.06.2026\, 19:00 Uhr<br/>Ende: 19.06.2026<br /><strong>Link:
 </strong><br/><a href='https://zell.ortenaukultur.de/de/veranstaltungen/de
 tail/veranstaltung/id/584708-maennergottesdienst-tankstopp/?vt=1'>Zur Deta
 ilseite</a>
END:VEVENT
END:VCALENDAR
