BEGIN:VCALENDAR
VERSION:2.0
PRODID:-//zell.ortenaukultur.de//NONSGML kigkonsult.se iCalcreator 2.41.92//
CALSCALE:GREGORIAN
METHOD:PUBLISH
UID:37643931-6533-4234-b137-636464353638
X-WR-TIMEZONE:Europe/Berlin
X-LIC-LOCATION:Europe/Berlin
BEGIN:VEVENT
UID:584791-kulturportal@zell.ortenaukultur.de
DTSTAMP:20260425T122337Z
DESCRIPTION:Kurzbeschreibung:\n Maiandacht in Strohbach\n Ort:\n Isenmanns 
 Kapelle\, Gengenbach-Strohbach\n Veranstalter:\n Förderverein Bermersbach
 \n Termin:\n Beginn: 05.05.2026\, 17:30 Uhr\n Ende: 05.05.2026\n Link:\n Z
 ur Detailseite
DTSTART;TZID=Europe/Berlin:20260505T173000
DTEND;TZID=Europe/Berlin:20260505T203000
LOCATION:Isenmanns Kapelle\, Gengenbach-Strohbach
SUMMARY:Maiandacht in Strohbach\, Isenmanns Kapelle
X-ALT-DESC;FMTTYPE=text/html:<strong>Kurzbeschreibung:</strong><br/>Maianda
 cht in Strohbach<br /><strong>Ort:</strong><br/>Isenmanns Kapelle\, Gengen
 bach-Strohbach<br /><strong>Veranstalter:</strong><br/>Förderverein Bermer
 sbach<br /><strong>Termin:</strong><br/>Beginn: 05.05.2026\, 17:30 Uhr<br/
 >Ende: 05.05.2026<br /><strong>Link:</strong><br/><a href='https://zell.or
 tenaukultur.de/de/veranstaltungen/detail/veranstaltung/id/584791-maiandach
 t-in-strohbach/?vt=1'>Zur Detailseite</a>
END:VEVENT
END:VCALENDAR
