BEGIN:VCALENDAR
VERSION:2.0
PRODID:-//zell.ortenaukultur.de//NONSGML kigkonsult.se iCalcreator 2.41.92//
CALSCALE:GREGORIAN
METHOD:PUBLISH
UID:39623839-3062-4565-a534-656339623763
X-WR-TIMEZONE:Europe/Berlin
X-LIC-LOCATION:Europe/Berlin
BEGIN:VEVENT
UID:584923-kulturportal@zell.ortenaukultur.de
DTSTAMP:20260425T120753Z
DESCRIPTION:Kurzbeschreibung:\n Jahreshauptversammlung des SV Reichenbach\n
  Ort:\n Sportheim Reichenbach\, Gengenbach-Reichenbach\n Veranstalter:\n S
 VR Reichenbach\n Termin:\n Beginn: 11.06.2026\, 19:00 Uhr\n Ende: 11.06.20
 26\n Link:\n Zur Detailseite
DTSTART;TZID=Europe/Berlin:20260611T190000
DTEND;TZID=Europe/Berlin:20260611T220000
LOCATION:Sportheim Reichenbach\, Gengenbach-Reichenbach
SUMMARY:Jahreshauptversammlung des SV Reichenbach\, Sportheim Reichenbach
X-ALT-DESC;FMTTYPE=text/html:<strong>Kurzbeschreibung:</strong><br/>Jahresh
 auptversammlung des SV Reichenbach<br /><strong>Ort:</strong><br/>Sporthei
 m Reichenbach\, Gengenbach-Reichenbach<br /><strong>Veranstalter:</strong>
 <br/>SVR Reichenbach<br /><strong>Termin:</strong><br/>Beginn: 11.06.2026\
 , 19:00 Uhr<br/>Ende: 11.06.2026<br /><strong>Link:</strong><br/><a href='
 https://zell.ortenaukultur.de/de/veranstaltungen/detail/veranstaltung/id/5
 84923-jahreshauptversammlung-des-sv-reichenbach/?vt=1'>Zur Detailseite</a>
END:VEVENT
END:VCALENDAR
