BEGIN:VCALENDAR
VERSION:2.0
PRODID:-//zell.ortenaukultur.de//NONSGML kigkonsult.se iCalcreator 2.41.92//
CALSCALE:GREGORIAN
METHOD:PUBLISH
UID:61623231-3966-4539-b363-363836373463
X-WR-TIMEZONE:Europe/Berlin
X-LIC-LOCATION:Europe/Berlin
BEGIN:VEVENT
UID:585147-kulturportal@zell.ortenaukultur.de
DTSTAMP:20260424T213415Z
DESCRIPTION:Kurzbeschreibung:\n Kultursommer Konzert mit Vincent Varus in d
 er Stadthalle am Nollen\n Ort:\n Stadthalle am Nollen\n Nollenstr. 15\, 77
 723 Gengenbach\n Veranstalter:\n Gengenbach Kultur- und Tourismus GmbH\n T
 ermin:\n Beginn: 12.07.2026\, 20:00 Uhr\n Ende: 12.07.2026\n Link:\n Zur D
 etailseite
DTSTART;TZID=Europe/Berlin:20260712T200000
DTEND;TZID=Europe/Berlin:20260712T230000
LOCATION:Stadthalle am Nollen\, Nollenstr. 15\, 77723 Gengenbach
SUMMARY:Vincent Varus\, Stadthalle am Nollen
X-ALT-DESC;FMTTYPE=text/html:<strong>Kurzbeschreibung:</strong><br/>Kulturs
 ommer Konzert mit Vincent Varus in der Stadthalle am Nollen<br /><strong>O
 rt:</strong><br/>Stadthalle am Nollen<br/>Nollenstr. 15\, 77723 Gengenbach
 <br /><strong>Veranstalter:</strong><br/>Gengenbach Kultur- und Tourismus 
 GmbH<br /><strong>Termin:</strong><br/>Beginn: 12.07.2026\, 20:00 Uhr<br/>
 Ende: 12.07.2026<br /><strong>Link:</strong><br/><a href='https://zell.ort
 enaukultur.de/de/veranstaltungen/detail/veranstaltung/id/585147-vincent-va
 rus/?vt=1'>Zur Detailseite</a>
END:VEVENT
END:VCALENDAR
