BEGIN:VCALENDAR
VERSION:2.0
PRODID:-//zell.ortenaukultur.de//NONSGML kigkonsult.se iCalcreator 2.41.92//
CALSCALE:GREGORIAN
METHOD:PUBLISH
UID:30613063-3031-4964-a432-363161666433
X-WR-TIMEZONE:Europe/Berlin
X-LIC-LOCATION:Europe/Berlin
BEGIN:VEVENT
UID:585796-kulturportal@zell.ortenaukultur.de
DTSTAMP:20260425T164744Z
DESCRIPTION:Kurzbeschreibung:\n ROB NOTES steht für handgemachte Musik\, üb
 erzeugend und mitreißend und verspricht einen genussvollen Abend\n Ort:\n 
 Bürgerpark\n Im Dorf 26\, 77787 Nordrach\n Veranstalter:\n Touristen-Infor
 mation Nordrach\n Termin:\n Beginn: 26.06.2026\n Ende: 26.06.2026\n Link:
 \n Zur Detailseite
DTSTART;TZID=Europe/Berlin:20260626T000000
DTEND;TZID=Europe/Berlin:20260626T030000
LOCATION:Bürgerpark\, Im Dorf 26\, 77787 Nordrach
SUMMARY:Musik im Park - 'Heimspiel' ROB NOTES\, Bürgerpark
X-ALT-DESC;FMTTYPE=text/html:<strong>Kurzbeschreibung:</strong><br/>ROB NOT
 ES steht für handgemachte Musik\, überzeugend und mitreißend und versprich
 t einen genussvollen Abend<br /><strong>Ort:</strong><br/>Bürgerpark<br/>I
 m Dorf 26\, 77787 Nordrach<br /><strong>Veranstalter:</strong><br/>Tourist
 en-Information Nordrach<br /><strong>Termin:</strong><br/>Beginn: 26.06.20
 26<br/>Ende: 26.06.2026<br /><strong>Link:</strong><br/><a href='https://z
 ell.ortenaukultur.de/de/veranstaltungen/detail/veranstaltung/id/585796-mus
 ik-im-park-heimspiel-rob-notes/?vt=1'>Zur Detailseite</a>
END:VEVENT
END:VCALENDAR
