BEGIN:VCALENDAR
VERSION:2.0
PRODID:-//zell.ortenaukultur.de//NONSGML kigkonsult.se iCalcreator 2.41.92//
CALSCALE:GREGORIAN
METHOD:PUBLISH
UID:36323337-3938-4565-b663-343163356137
X-WR-TIMEZONE:Europe/Berlin
X-LIC-LOCATION:Europe/Berlin
BEGIN:VEVENT
UID:591024-kulturportal@zell.ortenaukultur.de
DTSTAMP:20260424T233621Z
DESCRIPTION:Kurzbeschreibung:\n Der Alltag von Schwarzwälder Bauern vor 50\
 , 100 oder gar 300 Jahren kann man im Heimatmuseum Fürstenberger Hof nachs
 püren.\n Ort:\n Heimatmuseum Fürstenberger Hof\, Zell am Harmersbach\n Ver
 anstalter:\n Kultur und Stadtmarketing\n Termin:\n Beginn: 26.04.2026\, 15
 :00 Uhr\n Ende: 26.04.2026\n Link:\n Zur Detailseite
DTSTART;TZID=Europe/Berlin:20260426T150000
DTEND;TZID=Europe/Berlin:20260426T180000
LOCATION:Heimatmuseum Fürstenberger Hof\, Zell am Harmersbach
SUMMARY:Heimatmuseum Fürstenberger Hof\, Heimatmuseum Fürstenberger Hof
X-ALT-DESC;FMTTYPE=text/html:<strong>Kurzbeschreibung:</strong><br/>Der All
 tag von Schwarzwälder Bauern vor 50\, 100 oder gar 300 Jahren kann man im 
 Heimatmuseum Fürstenberger Hof nachspüren.<br /><strong>Ort:</strong><br/>
 Heimatmuseum Fürstenberger Hof\, Zell am Harmersbach<br /><strong>Veransta
 lter:</strong><br/>Kultur und Stadtmarketing<br /><strong>Termin:</strong>
 <br/>Beginn: 26.04.2026\, 15:00 Uhr<br/>Ende: 26.04.2026<br /><strong>Link
 :</strong><br/><a href='https://zell.ortenaukultur.de/de/veranstaltungen/d
 etail/veranstaltung/id/591024-heimatmuseum-fuerstenberger-hof/?vt=1'>Zur D
 etailseite</a>
END:VEVENT
END:VCALENDAR
