BEGIN:VCALENDAR
VERSION:2.0
PRODID:-//zell.ortenaukultur.de//NONSGML kigkonsult.se iCalcreator 2.41.92//
CALSCALE:GREGORIAN
METHOD:PUBLISH
UID:31313730-3237-4330-a363-373531623239
X-WR-TIMEZONE:Europe/Berlin
X-LIC-LOCATION:Europe/Berlin
BEGIN:VEVENT
UID:591250-kulturportal@zell.ortenaukultur.de
DTSTAMP:20260425T102334Z
DESCRIPTION:Kurzbeschreibung:\n Zeller Sommermusik - TrioConBrio\n Ort:\n E
 vangelische Kirche\n Kirchstr. 14\, 77736 Zell am Harmersbach\n Veranstalt
 er:\n Kultur und Stadtmarketing\n Termin:\n Beginn: 17.06.2026\, 19:00 Uhr
 \n Ende: 17.06.2026\n Link:\n Zur Detailseite
DTSTART;TZID=Europe/Berlin:20260617T190000
DTEND;TZID=Europe/Berlin:20260617T220000
LOCATION:Evangelische Kirche\, Kirchstr. 14\, 77736 Zell am Harmersbach
SUMMARY:TrioConBrio\, Evangelische Kirche
X-ALT-DESC;FMTTYPE=text/html:<strong>Kurzbeschreibung:</strong><br/>Zeller 
 Sommermusik - TrioConBrio<br /><strong>Ort:</strong><br/>Evangelische Kirc
 he<br/>Kirchstr. 14\, 77736 Zell am Harmersbach<br /><strong>Veranstalter:
 </strong><br/>Kultur und Stadtmarketing<br /><strong>Termin:</strong><br/>
 Beginn: 17.06.2026\, 19:00 Uhr<br/>Ende: 17.06.2026<br /><strong>Link:</st
 rong><br/><a href='https://zell.ortenaukultur.de/de/veranstaltungen/detail
 /veranstaltung/id/591250-trioconbrio/?vt=1'>Zur Detailseite</a>
END:VEVENT
END:VCALENDAR
