BEGIN:VCALENDAR
VERSION:2.0
PRODID:-//zell.ortenaukultur.de//NONSGML kigkonsult.se iCalcreator 2.41.92//
CALSCALE:GREGORIAN
METHOD:PUBLISH
UID:66633732-6531-4538-b265-333165636263
X-WR-TIMEZONE:Europe/Berlin
X-LIC-LOCATION:Europe/Berlin
BEGIN:VEVENT
UID:591251-kulturportal@zell.ortenaukultur.de
DTSTAMP:20260425T121927Z
DESCRIPTION:Kurzbeschreibung:\n Zeller Sommermusik - GESANG\, BLUES HARP\, 
 GITARRE\, KLAVIER – Herbert Quelle\n Ort:\n Evangelische Kirche\n Kirchstr
 . 14\, 77736 Zell am Harmersbach\n Veranstalter:\n Kultur und Stadtmarketi
 ng\n Termin:\n Beginn: 01.07.2026\, 19:00 Uhr\n Ende: 01.07.2026\n Link:\n
  Zur Detailseite
DTSTART;TZID=Europe/Berlin:20260701T190000
DTEND;TZID=Europe/Berlin:20260701T220000
LOCATION:Evangelische Kirche\, Kirchstr. 14\, 77736 Zell am Harmersbach
SUMMARY:GESANG\, BLUES HARP\, GITARRE\, KLAVIER – Herbert Quelle \, Evangel
 ische Kirche
X-ALT-DESC;FMTTYPE=text/html:<strong>Kurzbeschreibung:</strong><br/>Zeller 
 Sommermusik - GESANG\, BLUES HARP\, GITARRE\, KLAVIER – Herbert Quelle <br
  /><strong>Ort:</strong><br/>Evangelische Kirche<br/>Kirchstr. 14\, 77736 
 Zell am Harmersbach<br /><strong>Veranstalter:</strong><br/>Kultur und Sta
 dtmarketing<br /><strong>Termin:</strong><br/>Beginn: 01.07.2026\, 19:00 U
 hr<br/>Ende: 01.07.2026<br /><strong>Link:</strong><br/><a href='https://z
 ell.ortenaukultur.de/de/veranstaltungen/detail/veranstaltung/id/591251-ges
 ang-blues-harp-gitarre-klavier-herbert-quelle/?vt=1'>Zur Detailseite</a>
END:VEVENT
END:VCALENDAR
