BEGIN:VCALENDAR
VERSION:2.0
PRODID:-//zell.ortenaukultur.de//NONSGML kigkonsult.se iCalcreator 2.41.92//
CALSCALE:GREGORIAN
METHOD:PUBLISH
UID:31626330-6231-4931-b931-376537646231
X-WR-TIMEZONE:Europe/Berlin
X-LIC-LOCATION:Europe/Berlin
BEGIN:VEVENT
UID:595292-kulturportal@zell.ortenaukultur.de
DTSTAMP:20260425T133557Z
DESCRIPTION:Kurzbeschreibung:\n Tradition erleben\, Brauchtum lebendig halt
 en und dabei herzlich lachen\n Ort:\n Vesperstube Bermersbach „Merci Gabi“
 \n Hausmatt 3\, 77723 Gengenbach\n Veranstalter:\n Gengenbach Kultur- und 
 Tourismus GmbH\n Termin:\n Beginn: 16.07.2026\, 19:00 Uhr\n Ende: 16.07.20
 26\n Tickets:\n Tickets kaufen\n https://ortenaukultur.reservix.de/p/reser
 vix/event/2557817\n Einheitspreis:\n bis 12\,00 € + Ermäßigung\n *Preise i
 nkl. MwSt.\n \n Link:\n Zur Detailseite
DTSTART;TZID=Europe/Berlin:20260716T190000
DTEND;TZID=Europe/Berlin:20260716T220000
LOCATION:Vesperstube Bermersbach „Merci Gabi“\, Hausmatt 3\, 77723 Gengenba
 ch
SUMMARY:Gengenbacher G´schichten - mit den Bahrs\, Vesperstube Bermersbach 
 „Merci Gabi“
X-ALT-DESC;FMTTYPE=text/html:<strong>Kurzbeschreibung:</strong><br/>Traditi
 on erleben\, Brauchtum lebendig halten und dabei herzlich lachen<br /><str
 ong>Ort:</strong><br/>Vesperstube Bermersbach „Merci Gabi“<br/>Hausmatt 3\
 , 77723  Gengenbach<br /><strong>Veranstalter:</strong><br/>Gengenbach Kul
 tur- und Tourismus GmbH<br /><strong>Termin:</strong><br/>Beginn: 16.07.20
 26\, 19:00 Uhr<br/>Ende: 16.07.2026<br /><strong>Tickets: </strong><br/><a
  rel='asdf' href='https://zell.ortenaukultur.de/de/detail/tickets/id/59529
 2-gengenbacher-g-schichten-mit-den-bahrs/?follow=https%253A%252F%252Forten
 aukultur.reservix.de%252Fp%252Freservix%252Fevent%252F2557817' target='_bl
 ank' title='' id='ticketlink'>Tickets kaufen</a><br/>https://ortenaukultur
 .reservix.de/p/reservix/event/2557817<br/><b>Einheitspreis: </b><br />bis 
 12\,00 &euro\;&nbsp\; + Ermäßigung<br />*Preise inkl. MwSt.<br /><br /><st
 rong>Link:</strong><br/><a href='https://zell.ortenaukultur.de/de/veransta
 ltungen/detail/veranstaltung/id/595292-gengenbacher-g-schichten-mit-den-ba
 hrs/?vt=1'>Zur Detailseite</a>
END:VEVENT
END:VCALENDAR
