BEGIN:VCALENDAR
VERSION:2.0
PRODID:-//zell.ortenaukultur.de//NONSGML kigkonsult.se iCalcreator 2.41.92//
CALSCALE:GREGORIAN
METHOD:PUBLISH
UID:35313066-6536-4536-a434-653431326231
X-WR-TIMEZONE:Europe/Berlin
X-LIC-LOCATION:Europe/Berlin
BEGIN:VEVENT
UID:106514-kulturportal@zell.ortenaukultur.de
DTSTAMP:20260425T025716Z
DESCRIPTION:Kurzbeschreibung:\n Am 10 Oktober herrscht buntes Treiben auf d
 em Zeller Kanzleiplatz\n Ort:\n Kanzleiplatz\n Kanzleiplatz 1\, 77736 Zell
  am Harmersbach\n Veranstalter:\n Kultur und Stadtmarketing\n Termin:\n Be
 ginn: 10.10.2026\, 07:00 Uhr\n Ende: 10.10.2026\n Link:\n Zur Detailseite
DTSTART;TZID=Europe/Berlin:20261010T070000
DTEND;TZID=Europe/Berlin:20261010T100000
LOCATION:Kanzleiplatz\, Kanzleiplatz 1\, 77736 Zell am Harmersbach
SUMMARY:Mostfest mit Markt und Musik\, Kanzleiplatz
X-ALT-DESC;FMTTYPE=text/html:<strong>Kurzbeschreibung:</strong><br/>Am 10 O
 ktober herrscht buntes Treiben auf dem Zeller Kanzleiplatz<br /><strong>Or
 t:</strong><br/>Kanzleiplatz<br/>Kanzleiplatz 1\, 77736 Zell am Harmersbac
 h<br /><strong>Veranstalter:</strong><br/>Kultur und Stadtmarketing <br />
 <strong>Termin:</strong><br/>Beginn: 10.10.2026\, 07:00 Uhr<br/>Ende: 10.1
 0.2026<br /><strong>Link:</strong><br/><a href='https://zell.ortenaukultur
 .de/de/veranstaltungen/detail/veranstaltung/id/106514-mostfest-mit-markt-u
 nd-musik/?vt=1'>Zur Detailseite</a>
END:VEVENT
END:VCALENDAR
