BEGIN:VCALENDAR
VERSION:2.0
PRODID:-//zell.ortenaukultur.de//NONSGML kigkonsult.se iCalcreator 2.41.92//
CALSCALE:GREGORIAN
METHOD:PUBLISH
UID:65616363-6635-4065-a264-343565663431
X-WR-TIMEZONE:Europe/Berlin
X-LIC-LOCATION:Europe/Berlin
BEGIN:VEVENT
UID:123344-kulturportal@zell.ortenaukultur.de
DTSTAMP:20260425T102727Z
DESCRIPTION:Kurzbeschreibung:\n Konfirmation der Jugendlichen in der evange
 lischen Kirche\n Ort:\n Evangelische Kirche\n Kirchstr. 14\, 77736 Zell am
  Harmersbach\n Veranstalter:\n Evangelische Kirchengemeinde\n Termin:\n Be
 ginn: 10.05.2026\, 10:00 Uhr\n Ende: 10.05.2026\n Link:\n Zur Detailseite
DTSTART;TZID=Europe/Berlin:20260510T100000
DTEND;TZID=Europe/Berlin:20260510T130000
LOCATION:Evangelische Kirche\, Kirchstr. 14\, 77736 Zell am Harmersbach
SUMMARY:Konfirmation\, Evangelische Kirche
X-ALT-DESC;FMTTYPE=text/html:<strong>Kurzbeschreibung:</strong><br/>Konfirm
 ation der Jugendlichen in der evangelischen Kirche<br /><strong>Ort:</stro
 ng><br/>Evangelische Kirche<br/>Kirchstr. 14\, 77736 Zell am Harmersbach<b
 r /><strong>Veranstalter:</strong><br/>Evangelische Kirchengemeinde<br /><
 strong>Termin:</strong><br/>Beginn: 10.05.2026\, 10:00 Uhr<br/>Ende: 10.05
 .2026<br /><strong>Link:</strong><br/><a href='https://zell.ortenaukultur.
 de/de/veranstaltungen/detail/veranstaltung/id/123344-konfirmation/?vt=1'>Z
 ur Detailseite</a>
END:VEVENT
END:VCALENDAR
