BEGIN:VCALENDAR
VERSION:2.0
PRODID:-//zell.ortenaukultur.de//NONSGML kigkonsult.se iCalcreator 2.41.92//
CALSCALE:GREGORIAN
METHOD:PUBLISH
UID:33353632-6332-4334-b032-333032303561
X-WR-TIMEZONE:Europe/Berlin
X-LIC-LOCATION:Europe/Berlin
BEGIN:VEVENT
UID:123990-kulturportal@zell.ortenaukultur.de
DTSTAMP:20260425T152305Z
DESCRIPTION:Kurzbeschreibung:\n Schlendern Sie mit einem Stadtführer durch 
 die romantischen Altstadtgassen.\n Ort:\n Kanzleiplatz\n Kanzleiplatz 1\, 
 77736 Zell am Harmersbach\n Veranstalter:\n Tourist-Information\n Termin:
 \n Beginn: 01.09.2026\, 10:30 Uhr\n Ende: 01.09.2026\n Link:\n Zur Details
 eite
DTSTART;TZID=Europe/Berlin:20260901T103000
DTEND;TZID=Europe/Berlin:20260901T133000
LOCATION:Kanzleiplatz\, Kanzleiplatz 1\, 77736 Zell am Harmersbach
SUMMARY:Stadtführung\, Kanzleiplatz
X-ALT-DESC;FMTTYPE=text/html:<strong>Kurzbeschreibung:</strong><br/>Schlend
 ern Sie mit einem Stadtführer durch die romantischen Altstadtgassen.<br />
 <strong>Ort:</strong><br/>Kanzleiplatz<br/>Kanzleiplatz 1\, 77736 Zell am 
 Harmersbach<br /><strong>Veranstalter:</strong><br/>Tourist-Information<br
  /><strong>Termin:</strong><br/>Beginn: 01.09.2026\, 10:30 Uhr<br/>Ende: 0
 1.09.2026<br /><strong>Link:</strong><br/><a href='https://zell.ortenaukul
 tur.de/de/veranstaltungen/detail/veranstaltung/id/123990-stadtfuehrung/?vt
 =1'>Zur Detailseite</a>
END:VEVENT
END:VCALENDAR
