BEGIN:VCALENDAR
VERSION:2.0
PRODID:-//zell.ortenaukultur.de//NONSGML kigkonsult.se iCalcreator 2.41.92//
CALSCALE:GREGORIAN
METHOD:PUBLISH
UID:37356531-3162-4134-a138-356662326636
X-WR-TIMEZONE:Europe/Berlin
X-LIC-LOCATION:Europe/Berlin
BEGIN:VEVENT
UID:124043-kulturportal@zell.ortenaukultur.de
DTSTAMP:20260425T133754Z
DESCRIPTION:Kurzbeschreibung:\n Erntedankfest\n Ort:\n Katholische Stadtkir
 che St. Symphorian\n Kirchstr.\, 77736 Zell am Harmersbach\n Veranstalter:
 \n Katholisches Pfarramt\n Termin:\n Beginn: 04.10.2026\, 10:30 Uhr\n Ende
 : 04.10.2026\n Link:\n Zur Detailseite
DTSTART;TZID=Europe/Berlin:20261004T103000
DTEND;TZID=Europe/Berlin:20261004T133000
LOCATION:Katholische Stadtkirche St. Symphorian\, Kirchstr.\, 77736 Zell am
  Harmersbach
SUMMARY:Erntedankfest in der Stadtkirche St. Symphorian\, Katholische Stadt
 kirche St. Symphorian
X-ALT-DESC;FMTTYPE=text/html:<strong>Kurzbeschreibung:</strong><br/>Ernteda
 nkfest<br /><strong>Ort:</strong><br/>Katholische Stadtkirche St. Symphori
 an<br/>Kirchstr.\, 77736 Zell am Harmersbach<br /><strong>Veranstalter:</s
 trong><br/>Katholisches Pfarramt<br /><strong>Termin:</strong><br/>Beginn:
  04.10.2026\, 10:30 Uhr<br/>Ende: 04.10.2026<br /><strong>Link:</strong><b
 r/><a href='https://zell.ortenaukultur.de/de/veranstaltungen/detail/verans
 taltung/id/124043-erntedankfest-in-der-stadtkirche-st-symphorian/?vt=1'>Zu
 r Detailseite</a>
END:VEVENT
END:VCALENDAR
