BEGIN:VCALENDAR
VERSION:2.0
PRODID:-//zell.ortenaukultur.de//NONSGML kigkonsult.se iCalcreator 2.41.92//
CALSCALE:GREGORIAN
METHOD:PUBLISH
UID:61323832-3262-4864-b664-636130643937
X-WR-TIMEZONE:Europe/Berlin
X-LIC-LOCATION:Europe/Berlin
BEGIN:VEVENT
UID:258640-kulturportal@zell.ortenaukultur.de
DTSTAMP:20260425T040522Z
DESCRIPTION:Kurzbeschreibung:\n 21\,9 km auf traumhaften Trails durch den m
 ittleren Schwarzwald\, teilweise auf der bekannten Hahn & Henne Runde.\n O
 rt:\n Sportpark Zell und Schwarzwaldhalle\n Steinrücken 5\, 77736 Zell am 
 Harmersbach\n Veranstalter:\n Turnverein 1898 e.V.Unterharmersbach\n Termi
 n:\n Beginn: 04.10.2026\, 10:00 Uhr\n Ende: 04.10.2026\n Link:\n Zur Detai
 lseite
DTSTART;TZID=Europe/Berlin:20261004T100000
DTEND;TZID=Europe/Berlin:20261004T130000
LOCATION:Sportpark Zell und Schwarzwaldhalle\, Steinrücken 5\, 77736 Zell a
 m Harmersbach
SUMMARY:TrailRUN21 - das LaufERLEBNIS\, Heimatmuseum Fürstenberger Hof
X-ALT-DESC;FMTTYPE=text/html:<strong>Kurzbeschreibung:</strong><br/>21\,9 k
 m auf traumhaften Trails durch den mittleren Schwarzwald\, teilweise auf d
 er bekannten Hahn & Henne Runde.\n<br /><strong>Ort:</strong><br/>Sportpar
 k Zell und Schwarzwaldhalle<br/>Steinrücken 5\, 77736 Zell am Harmersbach<
 br /><strong>Veranstalter:</strong><br/>Turnverein 1898 e.V.Unterharmersba
 ch<br /><strong>Termin:</strong><br/>Beginn: 04.10.2026\, 10:00 Uhr<br/>En
 de: 04.10.2026<br /><strong>Link:</strong><br/><a href='https://zell.orten
 aukultur.de/de/veranstaltungen/detail/veranstaltung/id/258640-trailrun21-d
 as-lauferlebnis/?vt=1'>Zur Detailseite</a>
END:VEVENT
END:VCALENDAR
