BEGIN:VCALENDAR
VERSION:2.0
PRODID:-//zell.ortenaukultur.de//NONSGML kigkonsult.se iCalcreator 2.41.92//
CALSCALE:GREGORIAN
METHOD:PUBLISH
UID:34343033-6164-4632-a336-383837376230
X-WR-TIMEZONE:Europe/Berlin
X-LIC-LOCATION:Europe/Berlin
BEGIN:VEVENT
UID:289385-kulturportal@zell.ortenaukultur.de
DTSTAMP:20260425T025541Z
DESCRIPTION:Kurzbeschreibung:\n Sommer-Veranstaltung mit dem Musikverein Un
 terentersbach\n Ort:\n Oberentersbach\, Imkerschule\, Zell am Harmersbach
 \n Veranstalter:\n Tourist-Information\n Termin:\n Beginn: 02.07.2026\, 19
 :30 Uhr\n Ende: 02.07.2026\n Link:\n Zur Detailseite
DTSTART;TZID=Europe/Berlin:20260702T193000
DTEND;TZID=Europe/Berlin:20260702T223000
LOCATION:Oberentersbach\, Imkerschule\, Zell am Harmersbach
SUMMARY:Hock in Oberentersbach\, Oberentersbach\, Imkerschule
X-ALT-DESC;FMTTYPE=text/html:<strong>Kurzbeschreibung:</strong><br/>Sommer-
 Veranstaltung\nmit dem Musikverein Unterentersbach\n<br /><strong>Ort:</st
 rong><br/>Oberentersbach\, Imkerschule\, Zell am Harmersbach<br /><strong>
 Veranstalter:</strong><br/>Tourist-Information<br /><strong>Termin:</stron
 g><br/>Beginn: 02.07.2026\, 19:30 Uhr<br/>Ende: 02.07.2026<br /><strong>Li
 nk:</strong><br/><a href='https://zell.ortenaukultur.de/de/veranstaltungen
 /detail/veranstaltung/id/289385-hock-in-oberentersbach/?vt=1'>Zur Detailse
 ite</a>
END:VEVENT
END:VCALENDAR
