BEGIN:VCALENDAR
VERSION:2.0
PRODID:-//zell.ortenaukultur.de//NONSGML kigkonsult.se iCalcreator 2.41.92//
CALSCALE:GREGORIAN
METHOD:PUBLISH
UID:65653266-3731-4263-b266-626663626662
X-WR-TIMEZONE:Europe/Berlin
X-LIC-LOCATION:Europe/Berlin
BEGIN:VEVENT
UID:327849-kulturportal@zell.ortenaukultur.de
DTSTAMP:20260425T134655Z
DESCRIPTION:Kurzbeschreibung:\n Fußball-Dorfmeisterschaft Unterentersbach\n
  Ort:\n Fußballplatz Unterentersbach\, Zell am Harmersbach\n Veranstalter:
 \n Hobbyfußballclub Unterentersbach e. V.\n Termin:\n Beginn: 04.07.2026\n
  Ende: 04.07.2026\n Link:\n Zur Detailseite
DTSTART;TZID=Europe/Berlin:20260704T000000
DTEND;TZID=Europe/Berlin:20260704T030000
LOCATION:Fußballplatz Unterentersbach\, Zell am Harmersbach
SUMMARY:Fußball-Dorfmeisterschaft Unterentersbach\, Fußballplatz Unterenter
 sbach
X-ALT-DESC;FMTTYPE=text/html:<strong>Kurzbeschreibung:</strong><br/>Fußball
 -Dorfmeisterschaft Unterentersbach<br /><strong>Ort:</strong><br/>Fußballp
 latz Unterentersbach\, Zell am Harmersbach<br /><strong>Veranstalter:</str
 ong><br/>Hobbyfußballclub Unterentersbach e. V.<br /><strong>Termin:</stro
 ng><br/>Beginn: 04.07.2026<br/>Ende: 04.07.2026<br /><strong>Link:</strong
 ><br/><a href='https://zell.ortenaukultur.de/de/veranstaltungen/detail/ver
 anstaltung/id/327849-fussball-dorfmeisterschaft-unterentersbach/?vt=1'>Zur
  Detailseite</a>
END:VEVENT
END:VCALENDAR
