BEGIN:VCALENDAR
VERSION:2.0
PRODID:-//zell.ortenaukultur.de//NONSGML kigkonsult.se iCalcreator 2.41.92//
CALSCALE:GREGORIAN
METHOD:PUBLISH
UID:32666134-6636-4664-b531-626661636561
X-WR-TIMEZONE:Europe/Berlin
X-LIC-LOCATION:Europe/Berlin
BEGIN:VEVENT
UID:368407-kulturportal@zell.ortenaukultur.de
DTSTAMP:20260424T214920Z
DESCRIPTION:Kurzbeschreibung:\n Beliebtes Pilgerziel Wallfahrtskirche Maria
  zu den Ketten\n Ort:\n Wallfahrtskirche Zell am Harmersbach\, Zell am Har
 mersbach\n Veranstalter:\n Katholisches Pfarramt\n Termin:\n Beginn: 15.08
 .2026\n Ende: 15.08.2026\n Link:\n Zur Detailseite
DTSTART;TZID=Europe/Berlin:20260815T000000
DTEND;TZID=Europe/Berlin:20260815T030000
LOCATION:Wallfahrtskirche Zell am Harmersbach\, Zell am Harmersbach
SUMMARY:Patrozinium Wallfahrtskirche Maria zu den Ketten\, Wallfahrtskirche
  Zell am Harmersbach
X-ALT-DESC;FMTTYPE=text/html:<strong>Kurzbeschreibung:</strong><br/>Beliebt
 es Pilgerziel\nWallfahrtskirche Maria zu den Ketten<br /><strong>Ort:</str
 ong><br/>Wallfahrtskirche Zell am Harmersbach\, Zell am Harmersbach<br /><
 strong>Veranstalter:</strong><br/>Katholisches Pfarramt<br /><strong>Termi
 n:</strong><br/>Beginn: 15.08.2026<br/>Ende: 15.08.2026<br /><strong>Link:
 </strong><br/><a href='https://zell.ortenaukultur.de/de/veranstaltungen/de
 tail/veranstaltung/id/368407-patrozinium-wallfahrtskirche-maria-zu-den-ket
 ten/?vt=1'>Zur Detailseite</a>
END:VEVENT
END:VCALENDAR
