BEGIN:VCALENDAR
VERSION:2.0
PRODID:-//zell.ortenaukultur.de//NONSGML kigkonsult.se iCalcreator 2.41.92//
CALSCALE:GREGORIAN
METHOD:PUBLISH
UID:38616236-6465-4630-a132-646335633264
X-WR-TIMEZONE:Europe/Berlin
X-LIC-LOCATION:Europe/Berlin
BEGIN:VEVENT
UID:452482-kulturportal@zell.ortenaukultur.de
DTSTAMP:20260425T133652Z
DESCRIPTION:Kurzbeschreibung:\n Die Theatergruppe 'Chamäleon' präsentiert i
 hr neues Kindermusical 'Verrückter Wald'\n Ort:\n Tellerbau (Kulturzentrum
  Obere Fabrik)\n Fabrikstr. 5\, 77736 Zell am Harmersbach\n Veranstalter:
 \n Katja Prochakova-Körnle\n Termin:\n Beginn: 26.04.2026\, 15:30 Uhr\n En
 de: 26.04.2026\n Link:\n Zur Detailseite
DTSTART;TZID=Europe/Berlin:20260426T153000
DTEND;TZID=Europe/Berlin:20260426T183000
LOCATION:Tellerbau (Kulturzentrum Obere Fabrik)\, Fabrikstr. 5\, 77736 Zell
  am Harmersbach
SUMMARY:Chamäleon-Kindertheatergruppe\, Tellerbau (Kulturzentrum Obere Fabr
 ik)
X-ALT-DESC;FMTTYPE=text/html:<strong>Kurzbeschreibung:</strong><br/>Die The
 atergruppe 'Chamäleon' präsentiert ihr neues Kindermusical 'Verrückter Wal
 d'<br /><strong>Ort:</strong><br/>Tellerbau (Kulturzentrum Obere Fabrik)<b
 r/>Fabrikstr. 5\, 77736 Zell am Harmersbach<br /><strong>Veranstalter:</st
 rong><br/>Katja Prochakova-Körnle<br /><strong>Termin:</strong><br/>Beginn
 : 26.04.2026\, 15:30 Uhr<br/>Ende: 26.04.2026<br /><strong>Link:</strong><
 br/><a href='https://zell.ortenaukultur.de/de/veranstaltungen/detail/veran
 staltung/id/452482-chamaeleon-kindertheatergruppe/?vt=1'>Zur Detailseite</
 a>
END:VEVENT
END:VCALENDAR
