BEGIN:VCALENDAR
VERSION:2.0
PRODID:-//zell.ortenaukultur.de//NONSGML kigkonsult.se iCalcreator 2.41.92//
CALSCALE:GREGORIAN
METHOD:PUBLISH
UID:34313365-6336-4537-b030-626662316235
X-WR-TIMEZONE:Europe/Berlin
X-LIC-LOCATION:Europe/Berlin
BEGIN:VEVENT
UID:548223-kulturportal@zell.ortenaukultur.de
DTSTAMP:20260425T030651Z
DESCRIPTION:Kurzbeschreibung:\n Die Mannschaft der Abteilung Zell freut sic
 h\, viele Gäste\, Freunde der Feuerwehr und benachbarte Hilfsorganisatione
 n\n Ort:\n Feuerwehrhaus\, Zell am Harmersbach\n Veranstalter:\n Freiwilli
 ge Feuerwehr Zell a. H.\n Termin:\n Beginn: 11.10.2026\n Ende: 11.10.2026
 \n Link:\n Zur Detailseite
DTSTART;TZID=Europe/Berlin:20261011T000000
DTEND;TZID=Europe/Berlin:20261011T030000
LOCATION:Feuerwehrhaus\, Zell am Harmersbach
SUMMARY:Herbstfest der Feuerwehr Zell am Harmersbach (Abt. Zell) \, Feuerwe
 hrhaus
X-ALT-DESC;FMTTYPE=text/html:<strong>Kurzbeschreibung:</strong><br/>Die Man
 nschaft der Abteilung Zell freut sich\, viele Gäste\, Freunde der Feuerweh
 r und benachbarte Hilfsorganisationen <br /><strong>Ort:</strong><br/>Feue
 rwehrhaus\, Zell am Harmersbach<br /><strong>Veranstalter:</strong><br/>Fr
 eiwillige Feuerwehr Zell a. H.<br /><strong>Termin:</strong><br/>Beginn: 1
 1.10.2026<br/>Ende: 11.10.2026<br /><strong>Link:</strong><br/><a href='ht
 tps://zell.ortenaukultur.de/de/veranstaltungen/detail/veranstaltung/id/548
 223-herbstfest-der-feuerwehr-zell-am-harmersbach-abt-zell/?vt=1'>Zur Detai
 lseite</a>
END:VEVENT
END:VCALENDAR
