BEGIN:VCALENDAR
VERSION:2.0
PRODID:-//zell.ortenaukultur.de//NONSGML kigkonsult.se iCalcreator 2.41.92//
CALSCALE:GREGORIAN
METHOD:PUBLISH
UID:33346566-3736-4133-a636-363632383539
X-WR-TIMEZONE:Europe/Berlin
X-LIC-LOCATION:Europe/Berlin
BEGIN:VEVENT
UID:556928-kulturportal@zell.ortenaukultur.de
DTSTAMP:20260425T135325Z
DESCRIPTION:Kurzbeschreibung:\n Bermersbach trifft sich\n Ort:\n Gemeindeha
 lle Fußbach\n Fußbach\, 77723 Gengenbach\n Veranstalter:\n Ortsverwaltung 
 Bermersbach\n Termin:\n Beginn: 18.10.2026\, 16:00 Uhr\n Ende: 18.10.2026
 \n Link:\n Zur Detailseite
DTSTART;TZID=Europe/Berlin:20261018T160000
DTEND;TZID=Europe/Berlin:20261018T190000
LOCATION:Gemeindehalle Fußbach\, Fußbach\, 77723 Gengenbach
SUMMARY:Bermersbach trifft sich\, Gemeindehalle Fußbach
X-ALT-DESC;FMTTYPE=text/html:<strong>Kurzbeschreibung:</strong><br/>Bermers
 bach trifft sich<br /><strong>Ort:</strong><br/>Gemeindehalle Fußbach<br/>
 Fußbach\, 77723 Gengenbach<br /><strong>Veranstalter:</strong><br/>Ortsver
 waltung Bermersbach<br /><strong>Termin:</strong><br/>Beginn: 18.10.2026\,
  16:00 Uhr<br/>Ende: 18.10.2026<br /><strong>Link:</strong><br/><a href='h
 ttps://zell.ortenaukultur.de/de/veranstaltungen/detail/veranstaltung/id/55
 6928-bermersbach-trifft-sich/?vt=1'>Zur Detailseite</a>
END:VEVENT
END:VCALENDAR
