BEGIN:VCALENDAR
VERSION:2.0
PRODID:-//zell.ortenaukultur.de//NONSGML kigkonsult.se iCalcreator 2.41.92//
CALSCALE:GREGORIAN
METHOD:PUBLISH
UID:32316661-3761-4737-b036-373864326432
X-WR-TIMEZONE:Europe/Berlin
X-LIC-LOCATION:Europe/Berlin
BEGIN:VEVENT
UID:557278-kulturportal@zell.ortenaukultur.de
DTSTAMP:20260425T105223Z
DESCRIPTION:Kurzbeschreibung:\n Mitgliederversammlung der Narrenzunft Genge
 nbach\n Ort:\n Klosterkeller\n Nollenstr. 15\, 77723 Gengenbach\n Veransta
 lter:\n Narrenzunft Gengenbach\n Termin:\n Beginn: 11.11.2026\, 19:30 Uhr
 \n Ende: 11.11.2026\n Link:\n Zur Detailseite
DTSTART;TZID=Europe/Berlin:20261111T193000
DTEND;TZID=Europe/Berlin:20261111T223000
LOCATION:Klosterkeller\, Nollenstr. 15\, 77723 Gengenbach
SUMMARY:Mitgliederversammlung der Narrenzunft Gengenbach\, Stadthalle am No
 llen
X-ALT-DESC;FMTTYPE=text/html:<strong>Kurzbeschreibung:</strong><br/>Mitglie
 derversammlung der Narrenzunft Gengenbach<br /><strong>Ort:</strong><br/>K
 losterkeller<br/>Nollenstr. 15\, 77723 Gengenbach<br /><strong>Veranstalte
 r:</strong><br/>Narrenzunft Gengenbach<br /><strong>Termin:</strong><br/>B
 eginn: 11.11.2026\, 19:30 Uhr<br/>Ende: 11.11.2026<br /><strong>Link:</str
 ong><br/><a href='https://zell.ortenaukultur.de/de/veranstaltungen/detail/
 veranstaltung/id/557278-mitgliederversammlung-der-narrenzunft-gengenbach/?
 vt=1'>Zur Detailseite</a>
END:VEVENT
END:VCALENDAR
