BEGIN:VCALENDAR
VERSION:2.0
PRODID:-//zell.ortenaukultur.de//NONSGML kigkonsult.se iCalcreator 2.41.92//
CALSCALE:GREGORIAN
METHOD:PUBLISH
UID:39613339-6336-4162-b462-303139333834
X-WR-TIMEZONE:Europe/Berlin
X-LIC-LOCATION:Europe/Berlin
BEGIN:VEVENT
UID:561566-kulturportal@zell.ortenaukultur.de
DTSTAMP:20260425T115647Z
DESCRIPTION:Kurzbeschreibung:\n Kommen\, staunen\, kaufen - das macht den w
 öchentlichen 'Städtlemarkt' in Zell am Harmersbach aus.\n Ort:\n Kanzleipl
 atz\n Kanzleiplatz 1\, 77736 Zell am Harmersbach\n Veranstalter:\n Kultur 
 und Stadtmarketing\n Termin:\n Beginn: 25.10.2025\, 07:00 Uhr\n Ende: 25.1
 0.2025\n Link:\n Zur Detailseite
DTSTART;TZID=Europe/Berlin:20251025T070000
DTEND;TZID=Europe/Berlin:20251025T100000
LOCATION:Kanzleiplatz\, Kanzleiplatz 1\, 77736 Zell am Harmersbach
SUMMARY:Städtlemarkt\, Kanzleiplatz
X-ALT-DESC;FMTTYPE=text/html:<strong>Kurzbeschreibung:</strong><br/>Kommen\
 , staunen\, kaufen - das macht den wöchentlichen 'Städtlemarkt' in Zell am
  Harmersbach aus.<br /><strong>Ort:</strong><br/>Kanzleiplatz<br/>Kanzleip
 latz 1\, 77736 Zell am Harmersbach<br /><strong>Veranstalter:</strong><br/
 >Kultur und Stadtmarketing<br /><strong>Termin:</strong><br/>Beginn: 25.10
 .2025\, 07:00 Uhr<br/>Ende: 25.10.2025<br /><strong>Link:</strong><br/><a 
 href='https://zell.ortenaukultur.de/de/veranstaltungen/detail/veranstaltun
 g/id/561566-staedtlemarkt/?vt=1'>Zur Detailseite</a>
END:VEVENT
END:VCALENDAR
