BEGIN:VCALENDAR
VERSION:2.0
PRODID:-//zell.ortenaukultur.de//NONSGML kigkonsult.se iCalcreator 2.41.92//
CALSCALE:GREGORIAN
METHOD:PUBLISH
UID:62626161-6261-4864-b861-333361343562
X-WR-TIMEZONE:Europe/Berlin
X-LIC-LOCATION:Europe/Berlin
BEGIN:VEVENT
UID:584866-kulturportal@zell.ortenaukultur.de
DTSTAMP:20260425T121208Z
DESCRIPTION:Kurzbeschreibung:\n Mitgliederversammlung Bergwalddeifel\n Ort:
 \n Sporthaus Schwaibach\, Gengenbach-Schwaibach\n Veranstalter:\n Narrenzu
 nft Bergwalddeifel\n Termin:\n Beginn: 25.04.2026\, 18:00 Uhr\n Ende: 25.0
 4.2026\n Link:\n Zur Detailseite
DTSTART;TZID=Europe/Berlin:20260425T180000
DTEND;TZID=Europe/Berlin:20260425T210000
LOCATION:Sporthaus Schwaibach\, Gengenbach-Schwaibach
SUMMARY:Mitgliederversammlung Bergwalddeifel\, Sporthaus Schwaibach
X-ALT-DESC;FMTTYPE=text/html:<strong>Kurzbeschreibung:</strong><br/>Mitglie
 derversammlung Bergwalddeifel<br /><strong>Ort:</strong><br/>Sporthaus Sch
 waibach\, Gengenbach-Schwaibach<br /><strong>Veranstalter:</strong><br/>Na
 rrenzunft Bergwalddeifel<br /><strong>Termin:</strong><br/>Beginn: 25.04.2
 026\, 18:00 Uhr<br/>Ende: 25.04.2026<br /><strong>Link:</strong><br/><a hr
 ef='https://zell.ortenaukultur.de/de/veranstaltungen/detail/veranstaltung/
 id/584866-mitgliederversammlung-bergwalddeifel/?vt=1'>Zur Detailseite</a>
END:VEVENT
END:VCALENDAR
