BEGIN:VCALENDAR
VERSION:2.0
PRODID:-//zell.ortenaukultur.de//NONSGML kigkonsult.se iCalcreator 2.41.92//
CALSCALE:GREGORIAN
METHOD:PUBLISH
UID:30353939-3261-4235-a332-386235363765
X-WR-TIMEZONE:Europe/Berlin
X-LIC-LOCATION:Europe/Berlin
BEGIN:VEVENT
UID:584917-kulturportal@zell.ortenaukultur.de
DTSTAMP:20260425T140014Z
DESCRIPTION:Kurzbeschreibung:\n Maibaumhock in Reichenbach\n Ort:\n Schulho
 f Reichenbach\, Gengenbach-Reichenbach\n Veranstalter:\n SVR Reichenbach\n
  Termin:\n Beginn: 30.04.2026\, 17:00 Uhr\n Ende: 30.04.2026\n Link:\n Zur
  Detailseite
DTSTART;TZID=Europe/Berlin:20260430T170000
DTEND;TZID=Europe/Berlin:20260430T200000
LOCATION:Schulhof Reichenbach\, Gengenbach-Reichenbach
SUMMARY:Maibaumhock in Reichenbach\, Schulhof Reichenbach
X-ALT-DESC;FMTTYPE=text/html:<strong>Kurzbeschreibung:</strong><br/>Maibaum
 hock in Reichenbach<br /><strong>Ort:</strong><br/>Schulhof Reichenbach\, 
 Gengenbach-Reichenbach<br /><strong>Veranstalter:</strong><br/>SVR Reichen
 bach<br /><strong>Termin:</strong><br/>Beginn: 30.04.2026\, 17:00 Uhr<br/>
 Ende: 30.04.2026<br /><strong>Link:</strong><br/><a href='https://zell.ort
 enaukultur.de/de/veranstaltungen/detail/veranstaltung/id/584917-maibaumhoc
 k-in-reichenbach/?vt=1'>Zur Detailseite</a>
END:VEVENT
END:VCALENDAR
