BEGIN:VCALENDAR
VERSION:2.0
PRODID:-//zell.ortenaukultur.de//NONSGML kigkonsult.se iCalcreator 2.41.92//
CALSCALE:GREGORIAN
METHOD:PUBLISH
UID:61353435-3864-4432-b433-386634316131
X-WR-TIMEZONE:Europe/Berlin
X-LIC-LOCATION:Europe/Berlin
BEGIN:VEVENT
UID:584968-kulturportal@zell.ortenaukultur.de
DTSTAMP:20260424T162534Z
DESCRIPTION:Kurzbeschreibung:\n Tanz in den Mai mit 'Tom & Andy mit Steffi'
 \n Ort:\n Stadthalle am Nollen\n Nollenstr. 15\, 77723 Gengenbach\n Verans
 talter:\n Backstein- und Matratzenbourg\n Termin:\n Beginn: 30.04.2026\, 1
 9:00 Uhr\n Ende: 30.04.2026\n Link:\n Zur Detailseite
DTSTART;TZID=Europe/Berlin:20260430T190000
DTEND;TZID=Europe/Berlin:20260430T220000
LOCATION:Stadthalle am Nollen\, Nollenstr. 15\, 77723 Gengenbach
SUMMARY:Tanz in den Mai mit 'Tom & Andy mit Steffi'\, Stadthalle am Nollen
X-ALT-DESC;FMTTYPE=text/html:<strong>Kurzbeschreibung:</strong><br/>Tanz in
  den Mai mit 'Tom & Andy mit Steffi'<br /><strong>Ort:</strong><br/>Stadth
 alle am Nollen<br/>Nollenstr. 15\, 77723 Gengenbach<br /><strong>Veranstal
 ter:</strong><br/>Backstein- und Matratzenbourg<br /><strong>Termin:</stro
 ng><br/>Beginn: 30.04.2026\, 19:00 Uhr<br/>Ende: 30.04.2026<br /><strong>L
 ink:</strong><br/><a href='https://zell.ortenaukultur.de/de/veranstaltunge
 n/detail/veranstaltung/id/584968-tanz-in-den-mai-mit-tom-andy-mit-steffi/?
 vt=1'>Zur Detailseite</a>
END:VEVENT
END:VCALENDAR
