BEGIN:VCALENDAR
VERSION:2.0
PRODID:-//zell.ortenaukultur.de//NONSGML kigkonsult.se iCalcreator 2.41.92//
CALSCALE:GREGORIAN
METHOD:PUBLISH
UID:64376466-3562-4839-b039-656334373130
X-WR-TIMEZONE:Europe/Berlin
X-LIC-LOCATION:Europe/Berlin
BEGIN:VEVENT
UID:584970-kulturportal@zell.ortenaukultur.de
DTSTAMP:20260425T135500Z
DESCRIPTION:Kurzbeschreibung:\n Generalversammlung Backstein und Matratzenb
 ourg\n Ort:\n Vereinsheim über der Schule am Nollen\, Gengenbach\n Veranst
 alter:\n Backstein- und Matratzenbourg\n Termin:\n Beginn: 13.11.2026\, 20
 :11 Uhr\n Ende: 13.11.2026\n Link:\n Zur Detailseite
DTSTART;TZID=Europe/Berlin:20261113T201100
DTEND;TZID=Europe/Berlin:20261113T231100
LOCATION:Vereinsheim über der Schule am Nollen\, Gengenbach
SUMMARY:Generalversammlung Backstein und Matratzenbourg\, Vereinsheim über 
 der Schule am Nollen
X-ALT-DESC;FMTTYPE=text/html:<strong>Kurzbeschreibung:</strong><br/>General
 versammlung Backstein und Matratzenbourg<br /><strong>Ort:</strong><br/>Ve
 reinsheim über der Schule am Nollen\, Gengenbach<br /><strong>Veranstalter
 :</strong><br/>Backstein- und Matratzenbourg<br /><strong>Termin:</strong>
 <br/>Beginn: 13.11.2026\, 20:11 Uhr<br/>Ende: 13.11.2026<br /><strong>Link
 :</strong><br/><a href='https://zell.ortenaukultur.de/de/veranstaltungen/d
 etail/veranstaltung/id/584970-generalversammlung-backstein-und-matratzenbo
 urg/?vt=1'>Zur Detailseite</a>
END:VEVENT
END:VCALENDAR
