BEGIN:VCALENDAR
VERSION:2.0
PRODID:-//zell.ortenaukultur.de//NONSGML kigkonsult.se iCalcreator 2.41.92//
CALSCALE:GREGORIAN
METHOD:PUBLISH
UID:62383732-3631-4963-a233-623962643835
X-WR-TIMEZONE:Europe/Berlin
X-LIC-LOCATION:Europe/Berlin
BEGIN:VEVENT
UID:584972-kulturportal@zell.ortenaukultur.de
DTSTAMP:20260425T152450Z
DESCRIPTION:Kurzbeschreibung:\n Wine After Work in der Weinmanufaktur Genge
 nbach\n Ort:\n Weinmanufaktur Gengenbach\n Am Winzerkeller 2\, 77723 Genge
 nbach\n Veranstalter:\n Weinmanufaktur Gengenbach-Offenburg\n Termin:\n Be
 ginn: 11.06.2026\, 18:00 Uhr\n Ende: 11.06.2026\n Link:\n Zur Detailseite
DTSTART;TZID=Europe/Berlin:20260611T180000
DTEND;TZID=Europe/Berlin:20260611T210000
LOCATION:Weinmanufaktur Gengenbach\, Am Winzerkeller 2\, 77723 Gengenbach
SUMMARY:Wine After Work in der Weinmanufaktur Gengenbach\, Weinmanufaktur G
 engenbach
X-ALT-DESC;FMTTYPE=text/html:<strong>Kurzbeschreibung:</strong><br/>Wine Af
 ter Work in der Weinmanufaktur Gengenbach<br /><strong>Ort:</strong><br/>W
 einmanufaktur Gengenbach<br/>Am Winzerkeller 2\, 77723 Gengenbach<br /><st
 rong>Veranstalter:</strong><br/>Weinmanufaktur Gengenbach-Offenburg<br /><
 strong>Termin:</strong><br/>Beginn: 11.06.2026\, 18:00 Uhr<br/>Ende: 11.06
 .2026<br /><strong>Link:</strong><br/><a href='https://zell.ortenaukultur.
 de/de/veranstaltungen/detail/veranstaltung/id/584972-wine-after-work-in-de
 r-weinmanufaktur-gengenbach/?vt=1'>Zur Detailseite</a>
END:VEVENT
END:VCALENDAR
